|SUCCESS| pw141883-141890 [PATCH] [v3,8/8] net/mlx5: add async flow 
    dpdklab at iol.unh.edu 
    dpdklab at iol.unh.edu
       
    Thu Jun 27 05:28:36 CEST 2024
    
    
  
Test-Label: iol-compile-amd64-testing
Test-Status: SUCCESS
http://dpdk.org/patch/141890
_Testing PASS_
Submitter: Dariusz Sosnowski <dsosnowski at nvidia.com>
Date: Wednesday, June 26 2024 18:14:28 
DPDK git baseline: Repo:dpdk
  Branch: master
  CommitID:4a44d97f0a52a76258c6a6cb6a713f4380a8ab1f
141883-141890 --> testing pass
Test environment and result as below:
+---------------------+--------------------+----------------------+
|     Environment     | dpdk_meson_compile | dpdk_mingw64_compile |
+=====================+====================+======================+
| FreeBSD 13.3        | PASS               | SKIPPED              |
+---------------------+--------------------+----------------------+
| Windows Server 2019 | PASS               | PASS                 |
+---------------------+--------------------+----------------------+
| FreeBSD 14.1        | PASS               | SKIPPED              |
+---------------------+--------------------+----------------------+
| Windows Server 2022 | PASS               | PASS                 |
+---------------------+--------------------+----------------------+
FreeBSD 13.3
	Kernel: 13.3-RELEASE-p1
	Compiler: clang 17.0.6
Windows Server 2019
	Kernel: 10.0.17763
	Compiler: clang 14.0 and gcc 8.1.0 (MinGW)
FreeBSD 14.1
	Kernel: 14.1
	Compiler: clang 18.1.5
Windows Server 2022
	Kernel: 10.0.20348.2031
	Compiler: clang 15.0.7, gcc 8.1.0 (MinGW), and MSVC VS 17.9
To view detailed results, visit:
https://lab.dpdk.org/results/dashboard/patchsets/30327/
UNH-IOL DPDK Community Lab
To manage your email subscriptions, visit: 
https://lab.dpdk.org/results/dashboard/preferences/subscriptions/
    
    
More information about the test-report
mailing list