|SUCCESS| pw141881 [PATCH] doc: enhance the global log level documen

dpdklab at iol.unh.edu dpdklab at iol.unh.edu
Thu Jun 27 06:14:36 CEST 2024


Test-Label: iol-unit-arm64-testing
Test-Status: SUCCESS
http://dpdk.org/patch/141881

_Testing PASS_

Submitter: David Marchand <david.marchand at redhat.com>
Date: Wednesday, June 26 2024 15:09:25 
DPDK git baseline: Repo:dpdk
  Branch: master
  CommitID:c0fa83fe030771dea12e65ca1ba11174e1164774

141881 --> testing pass

Test environment and result as below:

+-----------------------------+----------------+--------------+
|         Environment         | dpdk_unit_test | lpm_autotest |
+=============================+================+==============+
| 32-bit Ubuntu 20.04.4 (ARM) | PASS           | SKIPPED      |
+-----------------------------+----------------+--------------+
| Debian 11 (Buster) (ARM)    | PASS           | SKIPPED      |
+-----------------------------+----------------+--------------+
| CentOS Stream 9 (ARM)       | PASS           | SKIPPED      |
+-----------------------------+----------------+--------------+
| Fedora 37 (ARM)             | PASS           | SKIPPED      |
+-----------------------------+----------------+--------------+
| Debian 12 (arm)             | PASS           | SKIPPED      |
+-----------------------------+----------------+--------------+
| Fedora 38 (ARM)             | PASS           | SKIPPED      |
+-----------------------------+----------------+--------------+
| Fedora 39 (ARM)             | PASS           | SKIPPED      |
+-----------------------------+----------------+--------------+
| Fedora 40 (ARM)             | PASS           | SKIPPED      |
+-----------------------------+----------------+--------------+
| Ubuntu 20.04 (ARM)          | PASS           | SKIPPED      |
+-----------------------------+----------------+--------------+
| RHEL9 (ARM)                 | PASS           | SKIPPED      |
+-----------------------------+----------------+--------------+
| Fedora 38 (ARM Clang)       | PASS           | SKIPPED      |
+-----------------------------+----------------+--------------+
| Fedora 39 (ARM Clang)       | PASS           | SKIPPED      |
+-----------------------------+----------------+--------------+
| Ubuntu 22.04 (ARM)          | PASS           | SKIPPED      |
+-----------------------------+----------------+--------------+
| Ubuntu 20.04 ARM SVE        | SKIPPED        | PASS         |
+-----------------------------+----------------+--------------+


32-bit Ubuntu 20.04.4 (ARM)
	Kernel: 5.4.0-155-generic aarch64
	Compiler: gcc 9.4

Debian 11 (Buster) (ARM)
	Kernel: Container Host Kernel
	Compiler: gcc 10.2.1

CentOS Stream 9 (ARM)
	Kernel: Container Host Kernel
	Compiler: gcc 11.4.1

Fedora 37 (ARM)
	Kernel: Depends on container host
	Compiler: gcc 12.3.1

Debian 12 (arm)
	Kernel: Container Host Kernel
	Compiler: gcc 12.2.0

Fedora 38 (ARM)
	Kernel: Depends on container host
	Compiler: gcc 13.2.1

Fedora 39 (ARM)
	Kernel: Depends on container host
	Compiler: gcc 13.2.1

Fedora 40 (ARM)
	Kernel: Depends on container host
	Compiler: gcc 14.1.1

Ubuntu 20.04 (ARM)
	Kernel: Container Host Kernel
	Compiler: gcc 9.4.0

RHEL9 (ARM)
	Kernel: Depends on container host
	Compiler: gcc 11.4.1

Fedora 38 (ARM Clang)
	Kernel: Depends on container host
	Compiler: clang 16.0.6

Fedora 39 (ARM Clang)
	Kernel: Depends on container host
	Compiler: clang 17.0.6

Ubuntu 22.04 (ARM)
	Kernel: Container Host Kernel
	Compiler: gcc 11.4.0

Ubuntu 20.04 ARM SVE
	Kernel: 5.4.0-167-generic
	Compiler: gcc (Ubuntu 10.5.0-1ubuntu1~20.04) 10.5.0

To view detailed results, visit:
https://lab.dpdk.org/results/dashboard/patchsets/30325/

UNH-IOL DPDK Community Lab

To manage your email subscriptions, visit: 
https://lab.dpdk.org/results/dashboard/preferences/subscriptions/


More information about the test-report mailing list