|SUCCESS| [GIT MASTER] a6ec5765cf83d3d58cbd6d4ed5b92b4a06f8a808

dpdklab at iol.unh.edu dpdklab at iol.unh.edu
Thu Jun 27 06:52:49 CEST 2024


_Testing PASS_

Branch: tags/v23.11

a6ec5765cf83d3d58cbd6d4ed5b92b4a06f8a808 --> testing pass

Test environment and result as below:

+---------------------+--------------------+
|     Environment     | dpdk_meson_compile |
+=====================+====================+
| FreeBSD 13.3        | PASS               |
+---------------------+--------------------+
| Windows Server 2019 | PASS               |
+---------------------+--------------------+
| FreeBSD 14.1        | PASS               |
+---------------------+--------------------+


FreeBSD 13.3
	Kernel: 13.3-RELEASE-p1
	Compiler: clang 17.0.6

Windows Server 2019
	Kernel: 10.0.17763
	Compiler: clang 14.0 and gcc 8.1.0 (MinGW)

FreeBSD 14.1
	Kernel: 14.1
	Compiler: clang 18.1.5

To view detailed results, visit:
https://lab.dpdk.org/results/dashboard/tarballs/29610/

UNH-IOL DPDK Community Lab

To manage your email subscriptions, visit: 
https://lab.dpdk.org/results/dashboard/preferences/subscriptions/


More information about the test-report mailing list