|SUCCESS| [GIT MASTER] a409653a123bf105970a25c594711a3cdc44d139

dpdklab at iol.unh.edu dpdklab at iol.unh.edu
Thu Jun 27 07:24:05 CEST 2024


_Testing PASS_

Branch: tags/v22.11

a409653a123bf105970a25c594711a3cdc44d139 --> testing pass

Test environment and result as below:

+---------------------+--------------------+
|     Environment     | dpdk_meson_compile |
+=====================+====================+
| FreeBSD 13.3        | PASS               |
+---------------------+--------------------+
| Windows Server 2022 | PASS               |
+---------------------+--------------------+
| FreeBSD 14.1        | PASS               |
+---------------------+--------------------+


FreeBSD 13.3
	Kernel: 13.3-RELEASE-p1
	Compiler: clang 17.0.6

Windows Server 2022
	Kernel: 10.0.20348.2031
	Compiler: clang 15.0.7, gcc 8.1.0 (MinGW), and MSVC VS 17.9

FreeBSD 14.1
	Kernel: 14.1
	Compiler: clang 18.1.5

To view detailed results, visit:
https://lab.dpdk.org/results/dashboard/tarballs/29612/

UNH-IOL DPDK Community Lab

To manage your email subscriptions, visit: 
https://lab.dpdk.org/results/dashboard/preferences/subscriptions/


More information about the test-report mailing list