|SUCCESS| pw141880 [PATCH] eal/linux: lower log level on allocation
dpdklab at iol.unh.edu
dpdklab at iol.unh.edu
Thu Jun 27 07:26:17 CEST 2024
Test-Label: iol-unit-amd64-testing
Test-Status: SUCCESS
http://dpdk.org/patch/141880
_Testing PASS_
Submitter: David Marchand <david.marchand at redhat.com>
Date: Wednesday, June 26 2024 14:51:42
DPDK git baseline: Repo:dpdk
Branch: master
CommitID:c0fa83fe030771dea12e65ca1ba11174e1164774
141880 --> testing pass
Test environment and result as below:
+-----------------+----------------+
| Environment | dpdk_unit_test |
+=================+================+
| CentOS Stream 9 | PASS |
+-----------------+----------------+
| CentOS Stream 8 | PASS |
+-----------------+----------------+
| Debian 12 | PASS |
+-----------------+----------------+
CentOS Stream 9
Kernel: 5.4.0-167-generic
Compiler: gcc 11.4.1 20230605
CentOS Stream 8
Kernel: 5.4.0-167-generic
Compiler: gcc 8.5.0 20210514
Debian 12
Kernel: Container Host Kernel
Compiler: gcc 12.2.0
To view detailed results, visit:
https://lab.dpdk.org/results/dashboard/patchsets/30324/
UNH-IOL DPDK Community Lab
To manage your email subscriptions, visit:
https://lab.dpdk.org/results/dashboard/preferences/subscriptions/
More information about the test-report
mailing list