|SUCCESS| pw141883-141890 [PATCH] [v3,8/8] net/mlx5: add async flow
dpdklab at iol.unh.edu
dpdklab at iol.unh.edu
Thu Jun 27 09:05:40 CEST 2024
Test-Label: iol-unit-amd64-testing
Test-Status: SUCCESS
http://dpdk.org/patch/141890
_Testing PASS_
Submitter: Dariusz Sosnowski <dsosnowski at nvidia.com>
Date: Wednesday, June 26 2024 18:14:28
DPDK git baseline: Repo:dpdk
Branch: master
CommitID:4a44d97f0a52a76258c6a6cb6a713f4380a8ab1f
141883-141890 --> testing pass
Test environment and result as below:
+-----------------+----------------+
| Environment | dpdk_unit_test |
+=================+================+
| CentOS Stream 8 | PASS |
+-----------------+----------------+
| CentOS Stream 9 | PASS |
+-----------------+----------------+
| Debian Bullseye | PASS |
+-----------------+----------------+
CentOS Stream 8
Kernel: 5.4.0-167-generic
Compiler: gcc 8.5.0 20210514
CentOS Stream 9
Kernel: 5.4.0-167-generic
Compiler: gcc 11.4.1 20230605
Debian Bullseye
Kernel: 5.4.0-167-generic
Compiler: gcc 10.2.1-6
To view detailed results, visit:
https://lab.dpdk.org/results/dashboard/patchsets/30327/
UNH-IOL DPDK Community Lab
To manage your email subscriptions, visit:
https://lab.dpdk.org/results/dashboard/preferences/subscriptions/
More information about the test-report
mailing list