|SUCCESS| pw141914-141915 [PATCH] [v3,2/2] cryptodev: validate crypt
dpdklab at iol.unh.edu
dpdklab at iol.unh.edu
Thu Jun 27 09:55:19 CEST 2024
Test-Label: iol-compile-arm64-testing
Test-Status: SUCCESS
http://dpdk.org/patch/141915
_Testing PASS_
Submitter: Kundapura, Ganapati <ganapati.kundapura at intel.com>
Date: Wednesday, June 26 2024 22:00:28
DPDK git baseline: Repo:dpdk
Branch: master
CommitID:6ca8a873f715e19550fc7dd43ce94af54158a725
141914-141915 --> testing pass
Test environment and result as below:
+----------------------+--------------------+
| Environment | dpdk_meson_compile |
+======================+====================+
| Ubuntu 20.04 ARM SVE | PASS |
+----------------------+--------------------+
| Debian 12 with MUSDK | PASS |
+----------------------+--------------------+
| RHEL9 (ARM) | PASS |
+----------------------+--------------------+
| Fedora 38 (ARM) | PASS |
+----------------------+--------------------+
| Fedora 39 (ARM) | PASS |
+----------------------+--------------------+
| Fedora 37 (ARM) | PASS |
+----------------------+--------------------+
Ubuntu 20.04 ARM SVE
Kernel: 5.4.0-167-generic
Compiler: gcc (Ubuntu 10.5.0-1ubuntu1~20.04) 10.5.0
Debian 12 with MUSDK
Kernel: Container Host Kernel
Compiler: gcc 12.2.0
RHEL9 (ARM)
Kernel: Depends on container host
Compiler: gcc 11.4.1
Fedora 38 (ARM)
Kernel: Depends on container host
Compiler: gcc 13.2.1
Fedora 39 (ARM)
Kernel: Depends on container host
Compiler: gcc 13.2.1
Fedora 37 (ARM)
Kernel: Depends on container host
Compiler: gcc 12.3.1
To view detailed results, visit:
https://lab.dpdk.org/results/dashboard/patchsets/30329/
UNH-IOL DPDK Community Lab
To manage your email subscriptions, visit:
https://lab.dpdk.org/results/dashboard/preferences/subscriptions/
More information about the test-report
mailing list