|SUCCESS| pw141923-141941 [PATCH] [v5,23/23] net/ntnic: add GMF (Gen

dpdklab at iol.unh.edu dpdklab at iol.unh.edu
Thu Jun 27 16:50:39 CEST 2024


Test-Label: iol-unit-arm64-testing
Test-Status: SUCCESS
http://dpdk.org/patch/141941

_Testing PASS_

Submitter: Serhii Iliushyk <sil-plv at napatech.com>
Date: Thursday, June 27 2024 07:39:04 
DPDK git baseline: Repo:dpdk
  Branch: master
  CommitID:fbba6db3640f9f623c29c452e1a6b057073e81d2

141923-141941 --> testing pass

Test environment and result as below:

+-----------------------------+----------------+
|         Environment         | dpdk_unit_test |
+=============================+================+
| Debian 11 (Buster) (ARM)    | PASS           |
+-----------------------------+----------------+
| Fedora 37 (ARM)             | PASS           |
+-----------------------------+----------------+
| Fedora 38 (ARM)             | PASS           |
+-----------------------------+----------------+
| CentOS Stream 9 (ARM)       | PASS           |
+-----------------------------+----------------+
| Debian 12 (arm)             | PASS           |
+-----------------------------+----------------+
| Fedora 39 (ARM)             | PASS           |
+-----------------------------+----------------+
| 32-bit Ubuntu 20.04.4 (ARM) | PASS           |
+-----------------------------+----------------+


Debian 11 (Buster) (ARM)
	Kernel: Container Host Kernel
	Compiler: gcc 10.2.1

Fedora 37 (ARM)
	Kernel: Depends on container host
	Compiler: gcc 12.3.1

Fedora 38 (ARM)
	Kernel: Depends on container host
	Compiler: gcc 13.2.1

CentOS Stream 9 (ARM)
	Kernel: Container Host Kernel
	Compiler: gcc 11.4.1

Debian 12 (arm)
	Kernel: Container Host Kernel
	Compiler: gcc 12.2.0

Fedora 39 (ARM)
	Kernel: Depends on container host
	Compiler: gcc 13.2.1

32-bit Ubuntu 20.04.4 (ARM)
	Kernel: 5.4.0-155-generic aarch64
	Compiler: gcc 9.4

To view detailed results, visit:
https://lab.dpdk.org/results/dashboard/patchsets/30335/

UNH-IOL DPDK Community Lab

To manage your email subscriptions, visit: 
https://lab.dpdk.org/results/dashboard/preferences/subscriptions/


More information about the test-report mailing list