|SUCCESS| pw141923-141941 [PATCH] [v5,23/23] net/ntnic: add GMF (Gen
dpdklab at iol.unh.edu
dpdklab at iol.unh.edu
Thu Jun 27 17:43:42 CEST 2024
Test-Label: iol-unit-amd64-testing
Test-Status: SUCCESS
http://dpdk.org/patch/141941
_Testing PASS_
Submitter: Serhii Iliushyk <sil-plv at napatech.com>
Date: Thursday, June 27 2024 07:39:04
DPDK git baseline: Repo:dpdk
Branch: master
CommitID:fbba6db3640f9f623c29c452e1a6b057073e81d2
141923-141941 --> testing pass
Test environment and result as below:
+-----------------+----------------+
| Environment | dpdk_unit_test |
+=================+================+
| CentOS Stream 8 | PASS |
+-----------------+----------------+
| CentOS Stream 9 | PASS |
+-----------------+----------------+
| Fedora 37 | PASS |
+-----------------+----------------+
| Debian Bullseye | PASS |
+-----------------+----------------+
| Fedora 39 | PASS |
+-----------------+----------------+
| Debian 12 | PASS |
+-----------------+----------------+
CentOS Stream 8
Kernel: 5.4.0-167-generic
Compiler: gcc 8.5.0 20210514
CentOS Stream 9
Kernel: 5.4.0-167-generic
Compiler: gcc 11.4.1 20230605
Fedora 37
Kernel: Depends on container host system
Compiler: gcc 12.3.1
Debian Bullseye
Kernel: 5.4.0-167-generic
Compiler: gcc 10.2.1-6
Fedora 39
Kernel: Depends on container host
Compiler: gcc 13.2.1
Debian 12
Kernel: Container Host Kernel
Compiler: gcc 12.2.0
To view detailed results, visit:
https://lab.dpdk.org/results/dashboard/patchsets/30335/
UNH-IOL DPDK Community Lab
To manage your email subscriptions, visit:
https://lab.dpdk.org/results/dashboard/preferences/subscriptions/
More information about the test-report
mailing list