|SUCCESS| pw141946-141947 [PATCH] [2/2] net/cnxk: avoid NPC Rx and M
dpdklab at iol.unh.edu
dpdklab at iol.unh.edu
Thu Jun 27 20:58:36 CEST 2024
Test-Label: iol-compile-amd64-testing
Test-Status: SUCCESS
http://dpdk.org/patch/141947
_Testing PASS_
Submitter: Rahul Bhansali <rbhansali at marvell.com>
Date: Thursday, June 27 2024 09:08:59
DPDK git baseline: Repo:dpdk
Branch: master
CommitID:362db0a4d230fbe43c2da1d6e34ecd0f2f946903
141946-141947 --> testing pass
Test environment and result as below:
+---------------------+--------------------+----------------------+
| Environment | dpdk_meson_compile | dpdk_mingw64_compile |
+=====================+====================+======================+
| Windows Server 2019 | PASS | PASS |
+---------------------+--------------------+----------------------+
| FreeBSD 13.3 | PASS | SKIPPED |
+---------------------+--------------------+----------------------+
| FreeBSD 14.1 | PASS | SKIPPED |
+---------------------+--------------------+----------------------+
Windows Server 2019
Kernel: 10.0.17763
Compiler: clang 14.0 and gcc 8.1.0 (MinGW)
FreeBSD 13.3
Kernel: 13.3-RELEASE-p1
Compiler: clang 17.0.6
FreeBSD 14.1
Kernel: 14.1
Compiler: clang 18.1.5
To view detailed results, visit:
https://lab.dpdk.org/results/dashboard/patchsets/30337/
UNH-IOL DPDK Community Lab
To manage your email subscriptions, visit:
https://lab.dpdk.org/results/dashboard/preferences/subscriptions/
More information about the test-report
mailing list