|SUCCESS| pw141946-141947 [PATCH] [2/2] net/cnxk: avoid NPC Rx and M

dpdklab at iol.unh.edu dpdklab at iol.unh.edu
Fri Jun 28 01:13:22 CEST 2024


Test-Label: iol-unit-arm64-testing
Test-Status: SUCCESS
http://dpdk.org/patch/141947

_Testing PASS_

Submitter: Rahul Bhansali <rbhansali at marvell.com>
Date: Thursday, June 27 2024 09:08:59 
DPDK git baseline: Repo:dpdk
  Branch: master
  CommitID:362db0a4d230fbe43c2da1d6e34ecd0f2f946903

141946-141947 --> testing pass

Test environment and result as below:

+-----------------------------+----------------+---------------------------+
|         Environment         | dpdk_unit_test | cryptodev_sw_zuc_autotest |
+=============================+================+===========================+
| 32-bit Ubuntu 20.04.4 (ARM) | PASS           | SKIPPED                   |
+-----------------------------+----------------+---------------------------+
| CentOS Stream 9 (ARM)       | PASS           | SKIPPED                   |
+-----------------------------+----------------+---------------------------+
| Debian 12 (arm)             | SKIPPED        | PASS                      |
+-----------------------------+----------------+---------------------------+


32-bit Ubuntu 20.04.4 (ARM)
	Kernel: 5.4.0-155-generic aarch64
	Compiler: gcc 9.4

CentOS Stream 9 (ARM)
	Kernel: Container Host Kernel
	Compiler: gcc 11.4.1

Debian 12 (arm)
	Kernel: Container Host Kernel
	Compiler: gcc 12.2.0

To view detailed results, visit:
https://lab.dpdk.org/results/dashboard/patchsets/30337/

UNH-IOL DPDK Community Lab

To manage your email subscriptions, visit: 
https://lab.dpdk.org/results/dashboard/preferences/subscriptions/


More information about the test-report mailing list