|SUCCESS| pw141918 [PATCH] app/dma-perf: documentation update of DMA
dpdklab at iol.unh.edu
dpdklab at iol.unh.edu
Fri Jun 28 03:05:46 CEST 2024
Test-Label: iol-compile-amd64-testing
Test-Status: SUCCESS
http://dpdk.org/patch/141918
_Testing PASS_
Submitter: Shaiq Wani <shaiq.wani at intel.com>
Date: Thursday, June 27 2024 05:34:04
DPDK git baseline: Repo:dpdk
Branch: master
CommitID:eeb4b1d1f491b53c3024e0a9e8839acf514122cd
141918 --> testing pass
Test environment and result as below:
+---------------------+--------------------+----------------------+-------------------+------------------+-------------------+
| Environment | dpdk_meson_compile | dpdk_mingw64_compile | dpdk_msvc_compile | dpdk_compile_ovs | dpdk_compile_spdk |
+=====================+====================+======================+===================+==================+===================+
| FreeBSD 13.3 | PASS | SKIPPED | SKIPPED | SKIPPED | SKIPPED |
+---------------------+--------------------+----------------------+-------------------+------------------+-------------------+
| Windows Server 2019 | PASS | PASS | SKIPPED | SKIPPED | SKIPPED |
+---------------------+--------------------+----------------------+-------------------+------------------+-------------------+
| Windows Server 2022 | PASS | PASS | PASS | SKIPPED | SKIPPED |
+---------------------+--------------------+----------------------+-------------------+------------------+-------------------+
| FreeBSD 14.1 | PASS | SKIPPED | SKIPPED | SKIPPED | SKIPPED |
+---------------------+--------------------+----------------------+-------------------+------------------+-------------------+
| CentOS Stream 9 | PASS | SKIPPED | SKIPPED | PASS | PASS |
+---------------------+--------------------+----------------------+-------------------+------------------+-------------------+
| CentOS Stream 8 | PASS | SKIPPED | SKIPPED | PASS | PASS |
+---------------------+--------------------+----------------------+-------------------+------------------+-------------------+
FreeBSD 13.3
Kernel: 13.3-RELEASE-p1
Compiler: clang 17.0.6
Windows Server 2019
Kernel: 10.0.17763
Compiler: clang 14.0 and gcc 8.1.0 (MinGW)
Windows Server 2022
Kernel: 10.0.20348.2031
Compiler: clang 15.0.7, gcc 8.1.0 (MinGW), and MSVC VS 17.9
FreeBSD 14.1
Kernel: 14.1
Compiler: clang 18.1.5
CentOS Stream 9
Kernel: 5.4.0-167-generic
Compiler: gcc 11.4.1 20230605
CentOS Stream 8
Kernel: 5.4.0-167-generic
Compiler: gcc 8.5.0 20210514
To view detailed results, visit:
https://lab.dpdk.org/results/dashboard/patchsets/30332/
UNH-IOL DPDK Community Lab
To manage your email subscriptions, visit:
https://lab.dpdk.org/results/dashboard/preferences/subscriptions/
More information about the test-report
mailing list