|SUCCESS| pw141918 [PATCH] app/dma-perf: documentation update of DMA
    dpdklab at iol.unh.edu 
    dpdklab at iol.unh.edu
       
    Fri Jun 28 03:33:25 CEST 2024
    
    
  
Test-Label: iol-unit-amd64-testing
Test-Status: SUCCESS
http://dpdk.org/patch/141918
_Testing PASS_
Submitter: Shaiq Wani <shaiq.wani at intel.com>
Date: Thursday, June 27 2024 05:34:04 
DPDK git baseline: Repo:dpdk
  Branch: master
  CommitID:eeb4b1d1f491b53c3024e0a9e8839acf514122cd
141918 --> testing pass
Test environment and result as below:
+-----------------+----------------+
|   Environment   | dpdk_unit_test |
+=================+================+
| CentOS Stream 9 | PASS           |
+-----------------+----------------+
| Debian Bullseye | PASS           |
+-----------------+----------------+
| Debian 12       | PASS           |
+-----------------+----------------+
| CentOS Stream 8 | PASS           |
+-----------------+----------------+
| Fedora 38       | PASS           |
+-----------------+----------------+
| Fedora 39       | PASS           |
+-----------------+----------------+
| Fedora 37       | PASS           |
+-----------------+----------------+
| Fedora 40       | PASS           |
+-----------------+----------------+
CentOS Stream 9
	Kernel: 5.4.0-167-generic
	Compiler: gcc 11.4.1 20230605
Debian Bullseye
	Kernel: 5.4.0-167-generic
	Compiler: gcc 10.2.1-6
Debian 12
	Kernel: Container Host Kernel
	Compiler: gcc 12.2.0
CentOS Stream 8
	Kernel: 5.4.0-167-generic
	Compiler: gcc 8.5.0 20210514
Fedora 38
	Kernel: Depends on container host
	Compiler: gcc 13.2.1
Fedora 39
	Kernel: Depends on container host
	Compiler: gcc 13.2.1
Fedora 37
	Kernel: Depends on container host system
	Compiler: gcc 12.3.1
Fedora 40
	Kernel: Depends on container host
	Compiler: gcc 14.1.1
To view detailed results, visit:
https://lab.dpdk.org/results/dashboard/patchsets/30332/
UNH-IOL DPDK Community Lab
To manage your email subscriptions, visit: 
https://lab.dpdk.org/results/dashboard/preferences/subscriptions/
    
    
More information about the test-report
mailing list