|SUCCESS| pw141921 [PATCH] [v3] config/arm: add Ampere AmpereOneX pl

dpdklab at iol.unh.edu dpdklab at iol.unh.edu
Fri Jun 28 05:36:30 CEST 2024


Test-Label: iol-compile-amd64-testing
Test-Status: SUCCESS
http://dpdk.org/patch/141921

_Testing PASS_

Submitter: Yutang Jiang <jiangyutang at os.amperecomputing.com>
Date: Thursday, June 27 2024 02:44:14 
DPDK git baseline: Repo:dpdk
  Branch: master
  CommitID:c15902587b538ff02cfb0fbb4dd481f1503d936b

141921 --> testing pass

Test environment and result as below:

+---------------------+----------------------+--------------------+-------------------+------------------+-------------------+
|     Environment     | dpdk_mingw64_compile | dpdk_meson_compile | dpdk_msvc_compile | dpdk_compile_ovs | dpdk_compile_spdk |
+=====================+======================+====================+===================+==================+===================+
| Windows Server 2019 | PASS                 | PASS               | SKIPPED           | SKIPPED          | SKIPPED           |
+---------------------+----------------------+--------------------+-------------------+------------------+-------------------+
| Windows Server 2022 | PASS                 | PASS               | PASS              | SKIPPED          | SKIPPED           |
+---------------------+----------------------+--------------------+-------------------+------------------+-------------------+
| FreeBSD 13.3        | SKIPPED              | PASS               | SKIPPED           | SKIPPED          | SKIPPED           |
+---------------------+----------------------+--------------------+-------------------+------------------+-------------------+
| FreeBSD 14.1        | SKIPPED              | PASS               | SKIPPED           | SKIPPED          | SKIPPED           |
+---------------------+----------------------+--------------------+-------------------+------------------+-------------------+
| CentOS Stream 8     | SKIPPED              | PASS               | SKIPPED           | PASS             | PASS              |
+---------------------+----------------------+--------------------+-------------------+------------------+-------------------+
| Debian Bullseye     | SKIPPED              | PASS               | SKIPPED           | PASS             | PASS              |
+---------------------+----------------------+--------------------+-------------------+------------------+-------------------+
| Fedora 38           | SKIPPED              | PASS               | SKIPPED           | PASS             | PASS              |
+---------------------+----------------------+--------------------+-------------------+------------------+-------------------+
| Debian 12           | SKIPPED              | PASS               | SKIPPED           | PASS             | PASS              |
+---------------------+----------------------+--------------------+-------------------+------------------+-------------------+
| openSUSE Leap 15    | SKIPPED              | PASS               | SKIPPED           | PASS             | SKIPPED           |
+---------------------+----------------------+--------------------+-------------------+------------------+-------------------+
| RHEL9               | SKIPPED              | PASS               | SKIPPED           | PASS             | SKIPPED           |
+---------------------+----------------------+--------------------+-------------------+------------------+-------------------+
| Fedora 37           | SKIPPED              | PASS               | SKIPPED           | PASS             | PASS              |
+---------------------+----------------------+--------------------+-------------------+------------------+-------------------+
| RHEL8               | SKIPPED              | PASS               | SKIPPED           | PASS             | SKIPPED           |
+---------------------+----------------------+--------------------+-------------------+------------------+-------------------+
| Fedora 39           | SKIPPED              | PASS               | SKIPPED           | PASS             | PASS              |
+---------------------+----------------------+--------------------+-------------------+------------------+-------------------+
| Ubuntu 20.04        | SKIPPED              | PASS               | SKIPPED           | PASS             | SKIPPED           |
+---------------------+----------------------+--------------------+-------------------+------------------+-------------------+
| Fedora 39 (Clang)   | SKIPPED              | PASS               | SKIPPED           | PASS             | PASS              |
+---------------------+----------------------+--------------------+-------------------+------------------+-------------------+
| Ubuntu 22.04        | SKIPPED              | PASS               | SKIPPED           | PASS             | PASS              |
+---------------------+----------------------+--------------------+-------------------+------------------+-------------------+
| Fedora 40           | SKIPPED              | PASS               | SKIPPED           | PASS             | PASS              |
+---------------------+----------------------+--------------------+-------------------+------------------+-------------------+
| Alpine              | SKIPPED              | PASS               | SKIPPED           | PASS             | SKIPPED           |
+---------------------+----------------------+--------------------+-------------------+------------------+-------------------+
| Ubuntu 24.04        | SKIPPED              | PASS               | SKIPPED           | PASS             | PASS              |
+---------------------+----------------------+--------------------+-------------------+------------------+-------------------+


Windows Server 2019
	Kernel: 10.0.17763
	Compiler: clang 14.0 and gcc 8.1.0 (MinGW)

Windows Server 2022
	Kernel: 10.0.20348.2031
	Compiler: clang 15.0.7, gcc 8.1.0 (MinGW), and MSVC VS 17.9

FreeBSD 13.3
	Kernel: 13.3-RELEASE-p1
	Compiler: clang 17.0.6

FreeBSD 14.1
	Kernel: 14.1
	Compiler: clang 18.1.5

CentOS Stream 8
	Kernel: 5.4.0-167-generic
	Compiler: gcc 8.5.0 20210514

Debian Bullseye
	Kernel: 5.4.0-167-generic
	Compiler: gcc 10.2.1-6

Fedora 38
	Kernel: Depends on container host
	Compiler: gcc 13.2.1

Debian 12
	Kernel: Container Host Kernel
	Compiler: gcc 12.2.0

openSUSE Leap 15
	Kernel: 5.4.0-167-generic
	Compiler: gcc 7.5.0

RHEL9
	Kernel: Depends on container host
	Compiler: gcc 11.4.1

Fedora 37
	Kernel: Depends on container host system
	Compiler: gcc 12.3.1

RHEL8
	Kernel: 5.4.0-167-generic
	Compiler: gcc 8.5.0 20210514 (Red Hat 8.5.0-20)

Fedora 39
	Kernel: Depends on container host
	Compiler: gcc 13.2.1

Ubuntu 20.04
	Kernel: 5.4.0-167-generic
	Compiler: gcc 9.4.0-1ubuntu1~20.04.1

Fedora 39 (Clang)
	Kernel: Depends on container host
	Compiler: clang 17.0.6

Ubuntu 22.04
	Kernel: 5.4.0-167-generic
	Compiler: gcc 11.4.0

Fedora 40
	Kernel: Depends on container host
	Compiler: gcc 14.1.1

Alpine
	Kernel: 5.4.0-167-generic
	Compiler: gcc (Alpine 13.2.1_git20231014) 13.2.1 20231014

Ubuntu 24.04
	Kernel: 5.4.0-167-generic
	Compiler: gcc 13.2.0

To view detailed results, visit:
https://lab.dpdk.org/results/dashboard/patchsets/30334/

UNH-IOL DPDK Community Lab

To manage your email subscriptions, visit: 
https://lab.dpdk.org/results/dashboard/preferences/subscriptions/


More information about the test-report mailing list