|SUCCESS| pw141956-141958 [PATCH] [v2,3/3] test/bpf: add extra test
dpdklab at iol.unh.edu
dpdklab at iol.unh.edu
Fri Jun 28 07:15:47 CEST 2024
Test-Label: iol-abi-testing
Test-Status: SUCCESS
http://dpdk.org/patch/141958
_Testing PASS_
Submitter: Konstantin Ananyev <konstantin.v.ananyev at yandex.ru>
Date: Thursday, June 27 2024 18:04:42
DPDK git baseline: Repo:dpdk
Branch: master
CommitID:c15902587b538ff02cfb0fbb4dd481f1503d936b
141956-141958 --> testing pass
Test environment and result as below:
+-------------------+----------+
| Environment | abi_test |
+===================+==========+
| CentOS Stream 8 | PASS |
+-------------------+----------+
| Fedora 37 | PASS |
+-------------------+----------+
| CentOS Stream 9 | PASS |
+-------------------+----------+
| Debian Bullseye | PASS |
+-------------------+----------+
| Debian 12 | PASS |
+-------------------+----------+
| Fedora 38 (Clang) | PASS |
+-------------------+----------+
| Fedora 39 (Clang) | PASS |
+-------------------+----------+
| Fedora 40 (Clang) | PASS |
+-------------------+----------+
| Fedora 40 | PASS |
+-------------------+----------+
| Fedora 38 | PASS |
+-------------------+----------+
| openSUSE Leap 15 | PASS |
+-------------------+----------+
| RHEL8 | PASS |
+-------------------+----------+
| RHEL9 | PASS |
+-------------------+----------+
| Ubuntu 22.04 | PASS |
+-------------------+----------+
| Ubuntu 24.04 | PASS |
+-------------------+----------+
| Fedora 39 | PASS |
+-------------------+----------+
CentOS Stream 8
Kernel: 5.4.0-167-generic
Compiler: gcc 8.5.0 20210514
Fedora 37
Kernel: Depends on container host system
Compiler: gcc 12.3.1
CentOS Stream 9
Kernel: 5.4.0-167-generic
Compiler: gcc 11.4.1 20230605
Debian Bullseye
Kernel: 5.4.0-167-generic
Compiler: gcc 10.2.1-6
Debian 12
Kernel: Container Host Kernel
Compiler: gcc 12.2.0
Fedora 38 (Clang)
Kernel: Depends on container host
Compiler: clang 16.0.6
Fedora 39 (Clang)
Kernel: Depends on container host
Compiler: clang 17.0.6
Fedora 40 (Clang)
Kernel: Depends on container host
Compiler: clang 18.1.6
Fedora 40
Kernel: Depends on container host
Compiler: gcc 14.1.1
Fedora 38
Kernel: Depends on container host
Compiler: gcc 13.2.1
openSUSE Leap 15
Kernel: 5.4.0-167-generic
Compiler: gcc 7.5.0
RHEL8
Kernel: 5.4.0-167-generic
Compiler: gcc 8.5.0 20210514 (Red Hat 8.5.0-20)
RHEL9
Kernel: Depends on container host
Compiler: gcc 11.4.1
Ubuntu 22.04
Kernel: 5.4.0-167-generic
Compiler: gcc 11.4.0
Ubuntu 24.04
Kernel: 5.4.0-167-generic
Compiler: gcc 13.2.0
Fedora 39
Kernel: Depends on container host
Compiler: gcc 13.2.1
To view detailed results, visit:
https://lab.dpdk.org/results/dashboard/patchsets/30342/
UNH-IOL DPDK Community Lab
To manage your email subscriptions, visit:
https://lab.dpdk.org/results/dashboard/preferences/subscriptions/
More information about the test-report
mailing list