|SUCCESS| [GIT MASTER] c15902587b538ff02cfb0fbb4dd481f1503d936b
dpdklab at iol.unh.edu
dpdklab at iol.unh.edu
Fri Jun 28 09:21:59 CEST 2024
_Testing PASS_
Branch: dpdk
c15902587b538ff02cfb0fbb4dd481f1503d936b --> testing pass
Test environment and result as below:
+--------------------------+--------------------+
| Environment | dpdk_meson_compile |
+==========================+====================+
| Debian 12 with MUSDK | PASS |
+--------------------------+--------------------+
| RHEL9 (ARM) | PASS |
+--------------------------+--------------------+
| Fedora 38 (ARM) | PASS |
+--------------------------+--------------------+
| Fedora 37 (ARM) | PASS |
+--------------------------+--------------------+
| Fedora 39 (ARM) | PASS |
+--------------------------+--------------------+
| Fedora 40 (ARM) | PASS |
+--------------------------+--------------------+
| Ubuntu 20.04 (ARM) | PASS |
+--------------------------+--------------------+
| Ubuntu 22.04 (ARM) | PASS |
+--------------------------+--------------------+
| Ubuntu 24.04 (ARM) | PASS |
+--------------------------+--------------------+
| Debian 11 (Buster) (ARM) | PASS |
+--------------------------+--------------------+
| CentOS Stream 9 (ARM) | PASS |
+--------------------------+--------------------+
Debian 12 with MUSDK
Kernel: Container Host Kernel
Compiler: gcc 12.2.0
RHEL9 (ARM)
Kernel: Depends on container host
Compiler: gcc 11.4.1
Fedora 38 (ARM)
Kernel: Depends on container host
Compiler: gcc 13.2.1
Fedora 37 (ARM)
Kernel: Depends on container host
Compiler: gcc 12.3.1
Fedora 39 (ARM)
Kernel: Depends on container host
Compiler: gcc 13.2.1
Fedora 40 (ARM)
Kernel: Depends on container host
Compiler: gcc 14.1.1
Ubuntu 20.04 (ARM)
Kernel: Container Host Kernel
Compiler: gcc 9.4.0
Ubuntu 22.04 (ARM)
Kernel: Container Host Kernel
Compiler: gcc 11.4.0
Ubuntu 24.04 (ARM)
Kernel: 5.4.0-167-generic
Compiler: gcc 13.2.0
Debian 11 (Buster) (ARM)
Kernel: Container Host Kernel
Compiler: gcc 10.2.1
CentOS Stream 9 (ARM)
Kernel: Container Host Kernel
Compiler: gcc 11.4.1
To view detailed results, visit:
https://lab.dpdk.org/results/dashboard/tarballs/29628/
UNH-IOL DPDK Community Lab
To manage your email subscriptions, visit:
https://lab.dpdk.org/results/dashboard/preferences/subscriptions/
More information about the test-report
mailing list