|SUCCESS| [GIT MASTER] 3b80379078a1f7c09b8d0ece24442c8ff2e2c67c

dpdklab at iol.unh.edu dpdklab at iol.unh.edu
Fri Jun 28 09:22:13 CEST 2024


_Testing PASS_

Branch: dpdk-next-crypto

3b80379078a1f7c09b8d0ece24442c8ff2e2c67c --> testing pass

Test environment and result as below:

+-----------------------------+----------------+--------------+
|         Environment         | dpdk_unit_test | lpm_autotest |
+=============================+================+==============+
| 32-bit Ubuntu 20.04.4 (ARM) | PASS           | SKIPPED      |
+-----------------------------+----------------+--------------+
| CentOS Stream 9 (ARM)       | PASS           | SKIPPED      |
+-----------------------------+----------------+--------------+
| Debian 11 (Buster) (ARM)    | PASS           | SKIPPED      |
+-----------------------------+----------------+--------------+
| Debian 12 (arm)             | PASS           | SKIPPED      |
+-----------------------------+----------------+--------------+
| Fedora 37 (ARM)             | PASS           | SKIPPED      |
+-----------------------------+----------------+--------------+
| Fedora 38 (ARM)             | PASS           | SKIPPED      |
+-----------------------------+----------------+--------------+
| Ubuntu 20.04 ARM SVE        | SKIPPED        | PASS         |
+-----------------------------+----------------+--------------+


32-bit Ubuntu 20.04.4 (ARM)
	Kernel: 5.4.0-155-generic aarch64
	Compiler: gcc 9.4

CentOS Stream 9 (ARM)
	Kernel: Container Host Kernel
	Compiler: gcc 11.4.1

Debian 11 (Buster) (ARM)
	Kernel: Container Host Kernel
	Compiler: gcc 10.2.1

Debian 12 (arm)
	Kernel: Container Host Kernel
	Compiler: gcc 12.2.0

Fedora 37 (ARM)
	Kernel: Depends on container host
	Compiler: gcc 12.3.1

Fedora 38 (ARM)
	Kernel: Depends on container host
	Compiler: gcc 13.2.1

Ubuntu 20.04 ARM SVE
	Kernel: 5.4.0-167-generic
	Compiler: gcc (Ubuntu 10.5.0-1ubuntu1~20.04) 10.5.0

To view detailed results, visit:
https://lab.dpdk.org/results/dashboard/tarballs/29626/

UNH-IOL DPDK Community Lab

To manage your email subscriptions, visit: 
https://lab.dpdk.org/results/dashboard/preferences/subscriptions/


More information about the test-report mailing list