|SUCCESS| [GIT MASTER] a409653a123bf105970a25c594711a3cdc44d139
    dpdklab at iol.unh.edu 
    dpdklab at iol.unh.edu
       
    Fri Jun 28 10:13:19 CEST 2024
    
    
  
_Testing PASS_
Branch: tags/v22.11
a409653a123bf105970a25c594711a3cdc44d139 --> testing pass
Test environment and result as below:
+-------------------+----------------+
|    Environment    | dpdk_unit_test |
+===================+================+
| RHEL9             | PASS           |
+-------------------+----------------+
| Fedora 40         | PASS           |
+-------------------+----------------+
| CentOS Stream 9   | PASS           |
+-------------------+----------------+
| Debian 12         | PASS           |
+-------------------+----------------+
| Debian Bullseye   | PASS           |
+-------------------+----------------+
| Fedora 38         | PASS           |
+-------------------+----------------+
| Fedora 37         | PASS           |
+-------------------+----------------+
| Fedora 38 (Clang) | PASS           |
+-------------------+----------------+
RHEL9
	Kernel: Depends on container host
	Compiler: gcc 11.4.1
Fedora 40
	Kernel: Depends on container host
	Compiler: gcc 14.1.1
CentOS Stream 9
	Kernel: 5.4.0-167-generic
	Compiler: gcc 11.4.1 20230605
Debian 12
	Kernel: Container Host Kernel
	Compiler: gcc 12.2.0
Debian Bullseye
	Kernel: 5.4.0-167-generic
	Compiler: gcc 10.2.1-6
Fedora 38
	Kernel: Depends on container host
	Compiler: gcc 13.2.1
Fedora 37
	Kernel: Depends on container host system
	Compiler: gcc 12.3.1
Fedora 38 (Clang)
	Kernel: Depends on container host
	Compiler: clang 16.0.6
To view detailed results, visit:
https://lab.dpdk.org/results/dashboard/tarballs/29631/
UNH-IOL DPDK Community Lab
To manage your email subscriptions, visit: 
https://lab.dpdk.org/results/dashboard/preferences/subscriptions/
    
    
More information about the test-report
mailing list