|SUCCESS| [GIT MASTER] a6ec5765cf83d3d58cbd6d4ed5b92b4a06f8a808
dpdklab at iol.unh.edu
dpdklab at iol.unh.edu
Fri Jun 28 11:43:54 CEST 2024
_Testing PASS_
Branch: tags/v23.11
a6ec5765cf83d3d58cbd6d4ed5b92b4a06f8a808 --> testing pass
Test environment and result as below:
+-----------------------------+----------------+------------------------------+--------------+
| Environment | dpdk_unit_test | cryptodev_sw_snow3g_autotest | lpm_autotest |
+=============================+================+==============================+==============+
| 32-bit Ubuntu 20.04.4 (ARM) | PASS | SKIPPED | SKIPPED |
+-----------------------------+----------------+------------------------------+--------------+
| Debian 12 (arm) | SKIPPED | PASS | SKIPPED |
+-----------------------------+----------------+------------------------------+--------------+
| Ubuntu 20.04 ARM SVE | SKIPPED | SKIPPED | PASS |
+-----------------------------+----------------+------------------------------+--------------+
32-bit Ubuntu 20.04.4 (ARM)
Kernel: 5.4.0-155-generic aarch64
Compiler: gcc 9.4
Debian 12 (arm)
Kernel: Container Host Kernel
Compiler: gcc 12.2.0
Ubuntu 20.04 ARM SVE
Kernel: 5.4.0-167-generic
Compiler: gcc (Ubuntu 10.5.0-1ubuntu1~20.04) 10.5.0
To view detailed results, visit:
https://lab.dpdk.org/results/dashboard/tarballs/29630/
UNH-IOL DPDK Community Lab
To manage your email subscriptions, visit:
https://lab.dpdk.org/results/dashboard/preferences/subscriptions/
More information about the test-report
mailing list