|SUCCESS| pw141959 [PATCH] dma/idxd: fix failure to configure a devi
dpdklab at iol.unh.edu
dpdklab at iol.unh.edu
Fri Jun 28 13:18:12 CEST 2024
Test-Label: iol-unit-amd64-testing
Test-Status: SUCCESS
http://dpdk.org/patch/141959
_Testing PASS_
Submitter: Ma, WenwuX <wenwux.ma at intel.com>
Date: Friday, June 28 2024 05:34:58
DPDK git baseline: Repo:dpdk
Branch: master
CommitID:c15902587b538ff02cfb0fbb4dd481f1503d936b
141959 --> testing pass
Test environment and result as below:
+-------------------+----------------+
| Environment | dpdk_unit_test |
+===================+================+
| CentOS Stream 8 | PASS |
+-------------------+----------------+
| Debian Bullseye | PASS |
+-------------------+----------------+
| CentOS Stream 9 | PASS |
+-------------------+----------------+
| Debian 12 | PASS |
+-------------------+----------------+
| Fedora 38 | PASS |
+-------------------+----------------+
| Fedora 37 | PASS |
+-------------------+----------------+
| Fedora 39 | PASS |
+-------------------+----------------+
| Fedora 38 (Clang) | PASS |
+-------------------+----------------+
| Fedora 40 | PASS |
+-------------------+----------------+
CentOS Stream 8
Kernel: 5.4.0-167-generic
Compiler: gcc 8.5.0 20210514
Debian Bullseye
Kernel: 5.4.0-167-generic
Compiler: gcc 10.2.1-6
CentOS Stream 9
Kernel: 5.4.0-167-generic
Compiler: gcc 11.4.1 20230605
Debian 12
Kernel: Container Host Kernel
Compiler: gcc 12.2.0
Fedora 38
Kernel: Depends on container host
Compiler: gcc 13.2.1
Fedora 37
Kernel: Depends on container host system
Compiler: gcc 12.3.1
Fedora 39
Kernel: Depends on container host
Compiler: gcc 13.2.1
Fedora 38 (Clang)
Kernel: Depends on container host
Compiler: clang 16.0.6
Fedora 40
Kernel: Depends on container host
Compiler: gcc 14.1.1
To view detailed results, visit:
https://lab.dpdk.org/results/dashboard/patchsets/30343/
UNH-IOL DPDK Community Lab
To manage your email subscriptions, visit:
https://lab.dpdk.org/results/dashboard/preferences/subscriptions/
More information about the test-report
mailing list