|SUCCESS| [GIT MASTER] 1b857f424a3164881a480ebedd59eab24febeec0
dpdklab at iol.unh.edu
dpdklab at iol.unh.edu
Fri Jun 28 14:19:57 CEST 2024
_Testing PASS_
Branch: dpdk-next-net-intel
1b857f424a3164881a480ebedd59eab24febeec0 --> testing pass
Test environment and result as below:
+-------------------+----------------+
| Environment | dpdk_unit_test |
+===================+================+
| CentOS Stream 8 | PASS |
+-------------------+----------------+
| CentOS Stream 9 | PASS |
+-------------------+----------------+
| Debian 12 | PASS |
+-------------------+----------------+
| Debian Bullseye | PASS |
+-------------------+----------------+
| Fedora 37 | PASS |
+-------------------+----------------+
| Fedora 39 | PASS |
+-------------------+----------------+
| Fedora 38 | PASS |
+-------------------+----------------+
| Fedora 38 (Clang) | PASS |
+-------------------+----------------+
| Fedora 40 | PASS |
+-------------------+----------------+
CentOS Stream 8
Kernel: 5.4.0-167-generic
Compiler: gcc 8.5.0 20210514
CentOS Stream 9
Kernel: 5.4.0-167-generic
Compiler: gcc 11.4.1 20230605
Debian 12
Kernel: Container Host Kernel
Compiler: gcc 12.2.0
Debian Bullseye
Kernel: 5.4.0-167-generic
Compiler: gcc 10.2.1-6
Fedora 37
Kernel: Depends on container host system
Compiler: gcc 12.3.1
Fedora 39
Kernel: Depends on container host
Compiler: gcc 13.2.1
Fedora 38
Kernel: Depends on container host
Compiler: gcc 13.2.1
Fedora 38 (Clang)
Kernel: Depends on container host
Compiler: clang 16.0.6
Fedora 40
Kernel: Depends on container host
Compiler: gcc 14.1.1
To view detailed results, visit:
https://lab.dpdk.org/results/dashboard/tarballs/29633/
UNH-IOL DPDK Community Lab
To manage your email subscriptions, visit:
https://lab.dpdk.org/results/dashboard/preferences/subscriptions/
More information about the test-report
mailing list