|SUCCESS| pw141960-141962 [PATCH] [v4,3/3] bus/pci: fix secondary pr
dpdklab at iol.unh.edu
dpdklab at iol.unh.edu
Fri Jun 28 14:43:04 CEST 2024
Test-Label: iol-compile-amd64-testing
Test-Status: SUCCESS
http://dpdk.org/patch/141962
_Testing PASS_
Submitter: Chaoyong He <chaoyong.he at corigine.com>
Date: Friday, June 28 2024 07:36:24
DPDK git baseline: Repo:dpdk
Branch: master
CommitID:c15902587b538ff02cfb0fbb4dd481f1503d936b
141960-141962 --> testing pass
Test environment and result as below:
+---------------------+--------------------+
| Environment | dpdk_meson_compile |
+=====================+====================+
| FreeBSD 13.3 | PASS |
+---------------------+--------------------+
| Windows Server 2019 | PASS |
+---------------------+--------------------+
| Windows Server 2022 | PASS |
+---------------------+--------------------+
FreeBSD 13.3
Kernel: 13.3-RELEASE-p1
Compiler: clang 17.0.6
Windows Server 2019
Kernel: 10.0.17763
Compiler: clang 14.0 and gcc 8.1.0 (MinGW)
Windows Server 2022
Kernel: 10.0.20348.2031
Compiler: clang 15.0.7, gcc 8.1.0 (MinGW), and MSVC VS 17.9
To view detailed results, visit:
https://lab.dpdk.org/results/dashboard/patchsets/30344/
UNH-IOL DPDK Community Lab
To manage your email subscriptions, visit:
https://lab.dpdk.org/results/dashboard/preferences/subscriptions/
More information about the test-report
mailing list