|SUCCESS| pw141960-141962 [PATCH] [v4,3/3] bus/pci: fix secondary pr

dpdklab at iol.unh.edu dpdklab at iol.unh.edu
Fri Jun 28 15:23:26 CEST 2024


Test-Label: iol-unit-arm64-testing
Test-Status: SUCCESS
http://dpdk.org/patch/141962

_Testing PASS_

Submitter: Chaoyong He <chaoyong.he at corigine.com>
Date: Friday, June 28 2024 07:36:24 
DPDK git baseline: Repo:dpdk
  Branch: master
  CommitID:c15902587b538ff02cfb0fbb4dd481f1503d936b

141960-141962 --> testing pass

Test environment and result as below:

+-----------------------------+----------------+------------------------------+
|         Environment         | dpdk_unit_test | cryptodev_sw_snow3g_autotest |
+=============================+================+==============================+
| CentOS Stream 9 (ARM)       | PASS           | SKIPPED                      |
+-----------------------------+----------------+------------------------------+
| 32-bit Ubuntu 20.04.4 (ARM) | PASS           | SKIPPED                      |
+-----------------------------+----------------+------------------------------+
| Debian 12 (arm)             | SKIPPED        | PASS                         |
+-----------------------------+----------------+------------------------------+


CentOS Stream 9 (ARM)
	Kernel: Container Host Kernel
	Compiler: gcc 11.4.1

32-bit Ubuntu 20.04.4 (ARM)
	Kernel: 5.4.0-155-generic aarch64
	Compiler: gcc 9.4

Debian 12 (arm)
	Kernel: Container Host Kernel
	Compiler: gcc 12.2.0

To view detailed results, visit:
https://lab.dpdk.org/results/dashboard/patchsets/30344/

UNH-IOL DPDK Community Lab

To manage your email subscriptions, visit: 
https://lab.dpdk.org/results/dashboard/preferences/subscriptions/


More information about the test-report mailing list