|SUCCESS| pw141964 [PATCH] [v2] dma/idxd: fix failure to configure a

dpdklab at iol.unh.edu dpdklab at iol.unh.edu
Fri Jun 28 15:51:51 CEST 2024


Test-Label: iol-unit-arm64-testing
Test-Status: SUCCESS
http://dpdk.org/patch/141964

_Testing PASS_

Submitter: Ma, WenwuX <wenwux.ma at intel.com>
Date: Friday, June 28 2024 09:54:00 
DPDK git baseline: Repo:dpdk
  Branch: master
  CommitID:c15902587b538ff02cfb0fbb4dd481f1503d936b

141964 --> testing pass

Test environment and result as below:

+-----------------------------+------------------------------+----------------+
|         Environment         | cryptodev_sw_snow3g_autotest | dpdk_unit_test |
+=============================+==============================+================+
| Debian 12 (arm)             | PASS                         | SKIPPED        |
+-----------------------------+------------------------------+----------------+
| Ubuntu 20.04 (ARM)          | SKIPPED                      | PASS           |
+-----------------------------+------------------------------+----------------+
| Fedora 38 (ARM Clang)       | SKIPPED                      | PASS           |
+-----------------------------+------------------------------+----------------+
| 32-bit Ubuntu 20.04.4 (ARM) | SKIPPED                      | PASS           |
+-----------------------------+------------------------------+----------------+


Debian 12 (arm)
	Kernel: Container Host Kernel
	Compiler: gcc 12.2.0

Ubuntu 20.04 (ARM)
	Kernel: Container Host Kernel
	Compiler: gcc 9.4.0

Fedora 38 (ARM Clang)
	Kernel: Depends on container host
	Compiler: clang 16.0.6

32-bit Ubuntu 20.04.4 (ARM)
	Kernel: 5.4.0-155-generic aarch64
	Compiler: gcc 9.4

To view detailed results, visit:
https://lab.dpdk.org/results/dashboard/patchsets/30346/

UNH-IOL DPDK Community Lab

To manage your email subscriptions, visit: 
https://lab.dpdk.org/results/dashboard/preferences/subscriptions/


More information about the test-report mailing list