|SUCCESS| pw141960-141962 [PATCH] [v4,3/3] bus/pci: fix secondary pr
    dpdklab at iol.unh.edu 
    dpdklab at iol.unh.edu
       
    Fri Jun 28 17:49:57 CEST 2024
    
    
  
Test-Label: iol-unit-amd64-testing
Test-Status: SUCCESS
http://dpdk.org/patch/141962
_Testing PASS_
Submitter: Chaoyong He <chaoyong.he at corigine.com>
Date: Friday, June 28 2024 07:36:24 
DPDK git baseline: Repo:dpdk
  Branch: master
  CommitID:c15902587b538ff02cfb0fbb4dd481f1503d936b
141960-141962 --> testing pass
Test environment and result as below:
+-------------------+----------------+
|    Environment    | dpdk_unit_test |
+===================+================+
| Debian Bullseye   | PASS           |
+-------------------+----------------+
| CentOS Stream 8   | PASS           |
+-------------------+----------------+
| CentOS Stream 9   | PASS           |
+-------------------+----------------+
| Debian 12         | PASS           |
+-------------------+----------------+
| Fedora 38         | PASS           |
+-------------------+----------------+
| Fedora 38 (Clang) | PASS           |
+-------------------+----------------+
| Fedora 40         | PASS           |
+-------------------+----------------+
| Fedora 37         | PASS           |
+-------------------+----------------+
| openSUSE Leap 15  | PASS           |
+-------------------+----------------+
| Fedora 39 (Clang) | PASS           |
+-------------------+----------------+
| RHEL9             | PASS           |
+-------------------+----------------+
| Fedora 39         | PASS           |
+-------------------+----------------+
| RHEL8             | PASS           |
+-------------------+----------------+
| Ubuntu 20.04      | PASS           |
+-------------------+----------------+
Debian Bullseye
	Kernel: 5.4.0-167-generic
	Compiler: gcc 10.2.1-6
CentOS Stream 8
	Kernel: 5.4.0-167-generic
	Compiler: gcc 8.5.0 20210514
CentOS Stream 9
	Kernel: 5.4.0-167-generic
	Compiler: gcc 11.4.1 20230605
Debian 12
	Kernel: Container Host Kernel
	Compiler: gcc 12.2.0
Fedora 38
	Kernel: Depends on container host
	Compiler: gcc 13.2.1
Fedora 38 (Clang)
	Kernel: Depends on container host
	Compiler: clang 16.0.6
Fedora 40
	Kernel: Depends on container host
	Compiler: gcc 14.1.1
Fedora 37
	Kernel: Depends on container host system
	Compiler: gcc 12.3.1
openSUSE Leap 15
	Kernel: 5.4.0-167-generic
	Compiler: gcc 7.5.0
Fedora 39 (Clang)
	Kernel: Depends on container host
	Compiler: clang 17.0.6
RHEL9
	Kernel: Depends on container host
	Compiler: gcc 11.4.1
Fedora 39
	Kernel: Depends on container host
	Compiler: gcc 13.2.1
RHEL8
	Kernel: 5.4.0-167-generic
	Compiler: gcc 8.5.0 20210514 (Red Hat 8.5.0-20)
Ubuntu 20.04
	Kernel: 5.4.0-167-generic
	Compiler: gcc 9.4.0-1ubuntu1~20.04.1
To view detailed results, visit:
https://lab.dpdk.org/results/dashboard/patchsets/30344/
UNH-IOL DPDK Community Lab
To manage your email subscriptions, visit: 
https://lab.dpdk.org/results/dashboard/preferences/subscriptions/
    
    
More information about the test-report
mailing list