|PENDING| pw141965 [PATCH] [v2] devtools: check that maintainers are
dpdklab at iol.unh.edu
dpdklab at iol.unh.edu
Fri Jun 28 19:25:38 CEST 2024
Test-Label: iol-unit-amd64-testing
Test-Status: PENDING
http://dpdk.org/patch/141965
_Testing pending_
Submitter: David Marchand <david.marchand at redhat.com>
Date: Friday, June 28 2024 12:56:12
DPDK git baseline: Repo:dpdk
Branch: master
CommitID:c15902587b538ff02cfb0fbb4dd481f1503d936b
141965 --> testing pending
Test environment and result as below:
+-------------------+----------------+
| Environment | dpdk_unit_test |
+===================+================+
| CentOS Stream 8 | PASS |
+-------------------+----------------+
| CentOS Stream 9 | PEND |
+-------------------+----------------+
| Debian Bullseye | PEND |
+-------------------+----------------+
| Debian 12 | PASS |
+-------------------+----------------+
| Fedora 37 | PASS |
+-------------------+----------------+
| Fedora 38 | PEND |
+-------------------+----------------+
| Fedora 38 (Clang) | PEND |
+-------------------+----------------+
| Fedora 39 | PEND |
+-------------------+----------------+
| Fedora 39 (Clang) | PEND |
+-------------------+----------------+
| Fedora 40 | PEND |
+-------------------+----------------+
| Fedora 40 (Clang) | PEND |
+-------------------+----------------+
| openSUSE Leap 15 | PEND |
+-------------------+----------------+
| RHEL8 | PEND |
+-------------------+----------------+
| RHEL9 | PEND |
+-------------------+----------------+
CentOS Stream 8
Kernel: 5.4.0-167-generic
Compiler: gcc 8.5.0 20210514
CentOS Stream 9
Kernel: 5.4.0-167-generic
Compiler: gcc 11.4.1 20230605
Debian Bullseye
Kernel: 5.4.0-167-generic
Compiler: gcc 10.2.1-6
Debian 12
Kernel: Container Host Kernel
Compiler: gcc 12.2.0
Fedora 37
Kernel: Depends on container host system
Compiler: gcc 12.3.1
Fedora 38
Kernel: Depends on container host
Compiler: gcc 13.2.1
Fedora 38 (Clang)
Kernel: Depends on container host
Compiler: clang 16.0.6
Fedora 39
Kernel: Depends on container host
Compiler: gcc 13.2.1
Fedora 39 (Clang)
Kernel: Depends on container host
Compiler: clang 17.0.6
Fedora 40
Kernel: Depends on container host
Compiler: gcc 14.1.1
Fedora 40 (Clang)
Kernel: Depends on container host
Compiler: clang 18.1.6
openSUSE Leap 15
Kernel: 5.4.0-167-generic
Compiler: gcc 7.5.0
RHEL8
Kernel: 5.4.0-167-generic
Compiler: gcc 8.5.0 20210514 (Red Hat 8.5.0-20)
RHEL9
Kernel: Depends on container host
Compiler: gcc 11.4.1
To view detailed results, visit:
https://lab.dpdk.org/results/dashboard/patchsets/30347/
UNH-IOL DPDK Community Lab
To manage your email subscriptions, visit:
https://lab.dpdk.org/results/dashboard/preferences/subscriptions/
More information about the test-report
mailing list