|SUCCESS| pw141965 [PATCH] [v2] devtools: check that maintainers are
dpdklab at iol.unh.edu
dpdklab at iol.unh.edu
Fri Jun 28 21:08:47 CEST 2024
Test-Label: iol-compile-amd64-testing
Test-Status: SUCCESS
http://dpdk.org/patch/141965
_Testing PASS_
Submitter: David Marchand <david.marchand at redhat.com>
Date: Friday, June 28 2024 12:56:12
DPDK git baseline: Repo:dpdk
Branch: master
CommitID:c15902587b538ff02cfb0fbb4dd481f1503d936b
141965 --> testing pass
Test environment and result as below:
+---------------------+----------------------+-------------------+--------------------+
| Environment | dpdk_mingw64_compile | dpdk_msvc_compile | dpdk_meson_compile |
+=====================+======================+===================+====================+
| Windows Server 2019 | PASS | SKIPPED | SKIPPED |
+---------------------+----------------------+-------------------+--------------------+
| Windows Server 2022 | PASS | PASS | PASS |
+---------------------+----------------------+-------------------+--------------------+
| FreeBSD 13.3 | SKIPPED | SKIPPED | PASS |
+---------------------+----------------------+-------------------+--------------------+
| FreeBSD 14.1 | SKIPPED | SKIPPED | PASS |
+---------------------+----------------------+-------------------+--------------------+
Windows Server 2019
Kernel: 10.0.17763
Compiler: clang 14.0 and gcc 8.1.0 (MinGW)
Windows Server 2022
Kernel: 10.0.20348.2031
Compiler: clang 15.0.7, gcc 8.1.0 (MinGW), and MSVC VS 17.9
FreeBSD 13.3
Kernel: 13.3-RELEASE-p1
Compiler: clang 17.0.6
FreeBSD 14.1
Kernel: 14.1
Compiler: clang 18.1.5
To view detailed results, visit:
https://lab.dpdk.org/results/dashboard/patchsets/30347/
UNH-IOL DPDK Community Lab
To manage your email subscriptions, visit:
https://lab.dpdk.org/results/dashboard/preferences/subscriptions/
More information about the test-report
mailing list