|PENDING| pw141966-141968 [PATCH] [v8,3/3] dts: config schema
dpdklab at iol.unh.edu
dpdklab at iol.unh.edu
Fri Jun 28 22:24:26 CEST 2024
Test-Label: iol-compile-amd64-testing
Test-Status: PENDING
http://dpdk.org/patch/141968
_Testing pending_
Submitter: Dean Marx <dmarx at iol.unh.edu>
Date: Friday, June 28 2024 14:00:10
DPDK git baseline: Repo:dpdk
Branch: master
CommitID:c15902587b538ff02cfb0fbb4dd481f1503d936b
141966-141968 --> testing pending
Test environment and result as below:
+---------------------+--------------------+----------------------+-------------------+
| Environment | dpdk_meson_compile | dpdk_mingw64_compile | dpdk_msvc_compile |
+=====================+====================+======================+===================+
| Windows Server 2019 | PASS | PEND | SKIPPED |
+---------------------+--------------------+----------------------+-------------------+
| Windows Server 2022 | PASS | PEND | PEND |
+---------------------+--------------------+----------------------+-------------------+
| FreeBSD 13.3 | PASS | SKIPPED | SKIPPED |
+---------------------+--------------------+----------------------+-------------------+
| FreeBSD 14.1 | PEND | SKIPPED | SKIPPED |
+---------------------+--------------------+----------------------+-------------------+
Windows Server 2019
Kernel: 10.0.17763
Compiler: clang 14.0 and gcc 8.1.0 (MinGW)
Windows Server 2022
Kernel: 10.0.20348.2031
Compiler: clang 15.0.7, gcc 8.1.0 (MinGW), and MSVC VS 17.9
FreeBSD 13.3
Kernel: 13.3-RELEASE-p1
Compiler: clang 17.0.6
FreeBSD 14.1
Kernel: 14.1
Compiler: clang 18.1.5
To view detailed results, visit:
https://lab.dpdk.org/results/dashboard/patchsets/30348/
UNH-IOL DPDK Community Lab
To manage your email subscriptions, visit:
https://lab.dpdk.org/results/dashboard/preferences/subscriptions/
More information about the test-report
mailing list