|WARNING| pw141952-141954 [PATCH] [3/3] test/bpf: add extra test cas
dpdklab at iol.unh.edu
dpdklab at iol.unh.edu
Sat Jun 29 04:57:22 CEST 2024
Test-Label: iol-sample-apps-testing
Test-Status: WARNING
http://dpdk.org/patch/141954
_Testing issues_
Submitter: Konstantin Ananyev <konstantin.v.ananyev at yandex.ru>
Date: Thursday, June 27 2024 11:55:31
DPDK git baseline: Repo:dpdk
Branch: master
CommitID:eeb4b1d1f491b53c3024e0a9e8839acf514122cd
141952-141954 --> testing issues
Test environment and result as below:
+--------------------+----------------------+----------------------+
| Environment | compressdev_zlib_pmd | dpdk_fips_validation |
+====================+======================+======================+
| Ubuntu 22.04 (ARM) | PASS | SKIPPED |
+--------------------+----------------------+----------------------+
| Ubuntu 22.04 | PASS | SKIPPED |
+--------------------+----------------------+----------------------+
| Ubuntu 20.04 | SKIPPED | WARN |
+--------------------+----------------------+----------------------+
==== 20 line log output for Ubuntu 20.04 (dpdk_fips_validation): ====
../lib/bpf/bpf_validate.c:2386:1: error: no previous prototype for 'evaluate' [-Werror=missing-prototypes]
cc1: all warnings being treated as errors
[195/2925] Compiling C object 'lib/76b5a35@@rte_pcapng at sta/pcapng_rte_pcapng.c.o'.
[196/2925] Compiling C object 'lib/76b5a35@@rte_acl at sta/acl_acl_run_avx512.c.o'.
[197/2925] Compiling C object 'lib/76b5a35@@rte_bpf at sta/bpf_bpf_jit_x86.c.o'.
[198/2925] Compiling C object 'lib/76b5a35@@rte_compressdev at sta/compressdev_rte_comp.c.o'.
[199/2925] Compiling C object 'lib/76b5a35@@rte_cryptodev at sta/cryptodev_cryptodev_trace_points.c.o'.
[200/2925] Generating cfgfile.sym_chk with a meson_exe.py custom command.
[201/2925] Compiling C object 'lib/76b5a35@@rte_dmadev at sta/dmadev_rte_dmadev_trace_points.c.o'.
[202/2925] Generating cmdline.sym_chk with a meson_exe.py custom command.
[203/2925] Compiling C object 'lib/76b5a35@@rte_ethdev at sta/ethdev_rte_ethdev.c.o'.
[204/2925] Compiling C object 'lib/76b5a35@@rte_distributor at sta/distributor_rte_distributor_match_sse.c.o'.
[205/2925] Generating bbdev.sym_chk with a meson_exe.py custom command.
[206/2925] Compiling C object 'lib/76b5a35@@rte_distributor at sta/distributor_rte_distributor_single.c.o'.
[207/2925] Compiling C object 'lib/76b5a35@@rte_distributor at sta/distributor_rte_distributor.c.o'.
[208/2925] Compiling C object 'lib/76b5a35@@rte_dmadev at sta/dmadev_rte_dmadev.c.o'.
[209/2925] Generating hash.sym_chk with a meson_exe.py custom command.
[210/2925] Compiling C object 'lib/76b5a35@@rte_cryptodev at sta/cryptodev_rte_cryptodev.c.o'.
[211/2925] Generating eal.sym_chk with a meson_exe.py custom command.
ninja: build stopped: subcommand failed.
==== End log output ====
Ubuntu 22.04 (ARM)
Kernel: 5.15.0-97-generic
Compiler: gcc gcc (Ubuntu 11.4.0-1ubuntu1~22.04) 11.4.0
Ubuntu 22.04
Kernel: 5.15.0-100-generic
Compiler: gcc gcc (Ubuntu 11.4.0-1ubuntu1~22.04) 11.4.0
Ubuntu 20.04
Kernel: 5.4.0-167-generic
Compiler: gcc 9.4.0-1ubuntu1~20.04.1
To view detailed results, visit:
https://lab.dpdk.org/results/dashboard/patchsets/30340/
UNH-IOL DPDK Community Lab
To manage your email subscriptions, visit:
https://lab.dpdk.org/results/dashboard/preferences/subscriptions/
More information about the test-report
mailing list