|PENDING| [GIT MASTER] c15902587b538ff02cfb0fbb4dd481f1503d936b
dpdklab at iol.unh.edu
dpdklab at iol.unh.edu
Sat Jun 29 19:06:18 CEST 2024
_Testing pending_
Branch: dpdk-next-eventdev
c15902587b538ff02cfb0fbb4dd481f1503d936b --> testing pending
Test environment and result as below:
+---------------------+----------------+
| Environment | dpdk_unit_test |
+=====================+================+
| Windows Server 2019 | PEND |
+---------------------+----------------+
| CentOS Stream 8 | PASS |
+---------------------+----------------+
| CentOS Stream 9 | PASS |
+---------------------+----------------+
| Debian Bullseye | PASS |
+---------------------+----------------+
| Debian 12 | PEND |
+---------------------+----------------+
| Fedora 37 | PEND |
+---------------------+----------------+
| Fedora 38 | PEND |
+---------------------+----------------+
| Fedora 38 (Clang) | PEND |
+---------------------+----------------+
| Fedora 39 | PEND |
+---------------------+----------------+
| Fedora 39 (Clang) | PEND |
+---------------------+----------------+
Windows Server 2019
Kernel: 10.0.17763
Compiler: clang 14.0 and gcc 8.1.0 (MinGW)
CentOS Stream 8
Kernel: 5.4.0-167-generic
Compiler: gcc 8.5.0 20210514
CentOS Stream 9
Kernel: 5.4.0-167-generic
Compiler: gcc 11.4.1 20230605
Debian Bullseye
Kernel: 5.4.0-167-generic
Compiler: gcc 10.2.1-6
Debian 12
Kernel: Container Host Kernel
Compiler: gcc 12.2.0
Fedora 37
Kernel: Depends on container host system
Compiler: gcc 12.3.1
Fedora 38
Kernel: Depends on container host
Compiler: gcc 13.2.1
Fedora 38 (Clang)
Kernel: Depends on container host
Compiler: clang 16.0.6
Fedora 39
Kernel: Depends on container host
Compiler: gcc 13.2.1
Fedora 39 (Clang)
Kernel: Depends on container host
Compiler: clang 17.0.6
To view detailed results, visit:
https://lab.dpdk.org/results/dashboard/tarballs/29646/
UNH-IOL DPDK Community Lab
To manage your email subscriptions, visit:
https://lab.dpdk.org/results/dashboard/preferences/subscriptions/
More information about the test-report
mailing list