|SUCCESS| [GIT MASTER] 79d638d4cfc0eddaeaf61f5f41043811806e8b4d
dpdklab at iol.unh.edu
dpdklab at iol.unh.edu
Fri Mar 1 01:15:39 CET 2024
_Testing PASS_
Branch: dpdk-next-eventdev
79d638d4cfc0eddaeaf61f5f41043811806e8b4d --> testing pass
Test environment and result as below:
+---------------------+--------------------+
| Environment | dpdk_meson_compile |
+=====================+====================+
| FreeBSD 13.2 | PASS |
+---------------------+--------------------+
| CentOS Stream 8 | PASS |
+---------------------+--------------------+
| Windows Server 2022 | PASS |
+---------------------+--------------------+
| Debian 12 (arm) | PASS |
+---------------------+--------------------+
| CentOS Stream 9 | PASS |
+---------------------+--------------------+
| Debian Bullseye | PASS |
+---------------------+--------------------+
| Fedora 37 | PASS |
+---------------------+--------------------+
FreeBSD 13.2
Kernel: 13.2
Compiler: clang 11.3.0
CentOS Stream 8
Kernel: 4.18.0-240.10.1.el8_3.x86_64
Compiler: gcc 8.4.1 20200928
Windows Server 2022
Kernel: OS Build 20348.2031
Compiler: MSVC VS-Preview
Debian 12 (arm)
Kernel: Container Host Kernel
Compiler: gcc 11
CentOS Stream 9
Kernel: 4.18.0-240.10.1.el8_3.x86_64
Compiler: gcc 11.3.1 20220421
Debian Bullseye
Kernel: 5.4.0-122-generic
Compiler: gcc 10.2.1-6
Fedora 37
Kernel: Depends on container host system
Compiler: gcc 12.3.1
To view detailed results, visit:
https://lab.dpdk.org/results/dashboard/tarballs/28239/
UNH-IOL DPDK Community Lab
To manage your email subscriptions, visit:
https://lab.dpdk.org/results/dashboard/preferences/subscriptions/
More information about the test-report
mailing list