|SUCCESS| pw137510 [PATCH] doc: update link to DevX integration on W

dpdklab at iol.unh.edu dpdklab at iol.unh.edu
Fri Mar 1 02:07:02 CET 2024


Test-Label: iol-unit-arm64-testing
Test-Status: SUCCESS
http://dpdk.org/patch/137510

_Testing PASS_

Submitter: Ali Alnubani <alialnu at nvidia.com>
Date: Thursday, February 29 2024 16:45:26 
DPDK git baseline: Repo:dpdk
  Branch: master
  CommitID:387aefe9fab8f1033071659a758ccda61a220ffd

137510 --> testing pass

Test environment and result as below:

+----------------------+--------------+---------------------------+------------------------------+
|     Environment      | lpm_autotest | cryptodev_sw_zuc_autotest | cryptodev_sw_snow3g_autotest |
+======================+==============+===========================+==============================+
| Ubuntu 20.04 ARM SVE | PASS         | SKIPPED                   | SKIPPED                      |
+----------------------+--------------+---------------------------+------------------------------+
| Debian 12 (arm)      | SKIPPED      | PASS                      | PASS                         |
+----------------------+--------------+---------------------------+------------------------------+


Ubuntu 20.04 ARM SVE
	Kernel: 5.4.0-80-generic
	Compiler: gcc 10.3.0 (Ubuntu 10.3.0-1ubuntu1~20.04)

Debian 12 (arm)
	Kernel: Container Host Kernel
	Compiler: gcc 11

To view detailed results, visit:
https://lab.dpdk.org/results/dashboard/patchsets/29344/

UNH-IOL DPDK Community Lab

To manage your email subscriptions, visit: 
https://lab.dpdk.org/results/dashboard/preferences/subscriptions/


More information about the test-report mailing list