|SUCCESS| pw137522-137524 [PATCH] [v8,3/3] test/cryptodev: add tests

dpdklab at iol.unh.edu dpdklab at iol.unh.edu
Fri Mar 1 04:13:34 CET 2024


Test-Label: iol-unit-arm64-testing
Test-Status: SUCCESS
http://dpdk.org/patch/137524

_Testing PASS_

Submitter: Ciara Power <ciara.power at intel.com>
Date: Thursday, February 29 2024 19:45:09 
DPDK git baseline: Repo:dpdk
  Branch: master
  CommitID:8f27705b70911d12dc0f356a728d73279fbc1e84

137522-137524 --> testing pass

Test environment and result as below:

+--------------------------+--------------+----------------+
|       Environment        | lpm_autotest | dpdk_unit_test |
+==========================+==============+================+
| Ubuntu 20.04 ARM SVE     | PASS         | SKIPPED        |
+--------------------------+--------------+----------------+
| Debian 11 (Buster) (ARM) | SKIPPED      | PASS           |
+--------------------------+--------------+----------------+
| CentOS Stream 9 (ARM)    | SKIPPED      | PASS           |
+--------------------------+--------------+----------------+
| Debian 12 (arm)          | SKIPPED      | PASS           |
+--------------------------+--------------+----------------+
| Fedora 38 (ARM)          | SKIPPED      | PASS           |
+--------------------------+--------------+----------------+


Ubuntu 20.04 ARM SVE
	Kernel: 5.4.0-80-generic
	Compiler: gcc 10.3.0 (Ubuntu 10.3.0-1ubuntu1~20.04)

Debian 11 (Buster) (ARM)
	Kernel: Container Host Kernel
	Compiler: gcc 10.2.1

CentOS Stream 9 (ARM)
	Kernel: Container Host Kernel
	Compiler: gcc 11.3.1

Debian 12 (arm)
	Kernel: Container Host Kernel
	Compiler: gcc 11

Fedora 38 (ARM)
	Kernel: Depends on container host
	Compiler: gcc 13.1.1

To view detailed results, visit:
https://lab.dpdk.org/results/dashboard/patchsets/29350/

UNH-IOL DPDK Community Lab

To manage your email subscriptions, visit: 
https://lab.dpdk.org/results/dashboard/preferences/subscriptions/


More information about the test-report mailing list