|SUCCESS| pw137771-137793 [PATCH] [v5,23/23] net/cnxk: other flow op
dpdklab at iol.unh.edu
dpdklab at iol.unh.edu
Sat Mar 2 04:56:14 CET 2024
Test-Label: iol-unit-arm64-testing
Test-Status: SUCCESS
http://dpdk.org/patch/137793
_Testing PASS_
Submitter: Harman Kalra <hkalra at marvell.com>
Date: Friday, March 01 2024 19:14:50
DPDK git baseline: Repo:dpdk
Branch: master
CommitID:ce8ce20ae46fe0df7632a0172c73d2dcd1ac0187
137771-137793 --> testing pass
Test environment and result as below:
+--------------------------+--------------+----------------+---------------------------+------------------------------+
| Environment | lpm_autotest | dpdk_unit_test | cryptodev_sw_zuc_autotest | cryptodev_sw_snow3g_autotest |
+==========================+==============+================+===========================+==============================+
| Ubuntu 20.04 ARM SVE | PASS | SKIPPED | SKIPPED | SKIPPED |
+--------------------------+--------------+----------------+---------------------------+------------------------------+
| CentOS Stream 9 (ARM) | SKIPPED | PASS | SKIPPED | SKIPPED |
+--------------------------+--------------+----------------+---------------------------+------------------------------+
| Debian 11 (Buster) (ARM) | SKIPPED | PASS | SKIPPED | SKIPPED |
+--------------------------+--------------+----------------+---------------------------+------------------------------+
| Fedora 37 (ARM) | SKIPPED | PASS | SKIPPED | SKIPPED |
+--------------------------+--------------+----------------+---------------------------+------------------------------+
| Debian 12 (arm) | SKIPPED | PASS | PASS | PASS |
+--------------------------+--------------+----------------+---------------------------+------------------------------+
| Ubuntu 20.04 (ARM) | SKIPPED | PASS | SKIPPED | SKIPPED |
+--------------------------+--------------+----------------+---------------------------+------------------------------+
| Fedora 38 (ARM) | SKIPPED | PASS | SKIPPED | SKIPPED |
+--------------------------+--------------+----------------+---------------------------+------------------------------+
| Fedora 38 (ARM Clang) | SKIPPED | PASS | SKIPPED | SKIPPED |
+--------------------------+--------------+----------------+---------------------------+------------------------------+
Ubuntu 20.04 ARM SVE
Kernel: 5.4.0-80-generic
Compiler: gcc 10.3.0 (Ubuntu 10.3.0-1ubuntu1~20.04)
CentOS Stream 9 (ARM)
Kernel: Container Host Kernel
Compiler: gcc 11.3.1
Debian 11 (Buster) (ARM)
Kernel: Container Host Kernel
Compiler: gcc 10.2.1
Fedora 37 (ARM)
Kernel: Depends on container host
Compiler: gcc 12.3.1
Debian 12 (arm)
Kernel: Container Host Kernel
Compiler: gcc 11
Ubuntu 20.04 (ARM)
Kernel: Container Host Kernel
Compiler: gcc 9.4.0
Fedora 38 (ARM)
Kernel: Depends on container host
Compiler: gcc 13.1.1
Fedora 38 (ARM Clang)
Kernel: Depends on container host
Compiler: clang 16.0.3
To view detailed results, visit:
https://lab.dpdk.org/results/dashboard/patchsets/29383/
UNH-IOL DPDK Community Lab
To manage your email subscriptions, visit:
https://lab.dpdk.org/results/dashboard/preferences/subscriptions/
More information about the test-report
mailing list