|SUCCESS| [GIT MASTER] 5ac50824383c2683c0dfdf24c6dc493f1fa54852
dpdklab at iol.unh.edu
dpdklab at iol.unh.edu
Sat Mar 2 05:02:53 CET 2024
_Testing PASS_
Branch: dpdk-next-crypto
5ac50824383c2683c0dfdf24c6dc493f1fa54852 --> testing pass
Test environment and result as below:
+----------------------+--------------+---------------------------+------------------------------+
| Environment | lpm_autotest | cryptodev_sw_zuc_autotest | cryptodev_sw_snow3g_autotest |
+======================+==============+===========================+==============================+
| Ubuntu 20.04 ARM SVE | PASS | SKIPPED | SKIPPED |
+----------------------+--------------+---------------------------+------------------------------+
| Debian 12 (arm) | SKIPPED | PASS | PASS |
+----------------------+--------------+---------------------------+------------------------------+
Ubuntu 20.04 ARM SVE
Kernel: 5.4.0-80-generic
Compiler: gcc 10.3.0 (Ubuntu 10.3.0-1ubuntu1~20.04)
Debian 12 (arm)
Kernel: Container Host Kernel
Compiler: gcc 11
To view detailed results, visit:
https://lab.dpdk.org/results/dashboard/tarballs/28275/
UNH-IOL DPDK Community Lab
To manage your email subscriptions, visit:
https://lab.dpdk.org/results/dashboard/preferences/subscriptions/
More information about the test-report
mailing list