|SUCCESS| pw137812 [PATCH] eal/x86: improve rte_memcpy const size 16
dpdklab at iol.unh.edu
dpdklab at iol.unh.edu
Sun Mar 3 01:28:51 CET 2024
Test-Label: iol-unit-arm64-testing
Test-Status: SUCCESS
http://dpdk.org/patch/137812
_Testing PASS_
Submitter: Morten Brorup <mb at smartsharesystems.com>
Date: Saturday, March 02 2024 23:48:12
DPDK git baseline: Repo:dpdk
Branch: master
CommitID:5df34de5808a7b826b8bc035d6ee3161a12be364
137812 --> testing pass
Test environment and result as below:
+--------------------------+----------------+---------------------------+------------------------------+
| Environment | dpdk_unit_test | cryptodev_sw_zuc_autotest | cryptodev_sw_snow3g_autotest |
+==========================+================+===========================+==============================+
| Debian 11 (Buster) (ARM) | PASS | SKIPPED | SKIPPED |
+--------------------------+----------------+---------------------------+------------------------------+
| Fedora 38 (ARM) | PASS | SKIPPED | SKIPPED |
+--------------------------+----------------+---------------------------+------------------------------+
| Debian 12 (arm) | PASS | PASS | PASS |
+--------------------------+----------------+---------------------------+------------------------------+
| Fedora 37 (ARM) | PASS | SKIPPED | SKIPPED |
+--------------------------+----------------+---------------------------+------------------------------+
| Ubuntu 20.04 (ARM) | PASS | SKIPPED | SKIPPED |
+--------------------------+----------------+---------------------------+------------------------------+
Debian 11 (Buster) (ARM)
Kernel: Container Host Kernel
Compiler: gcc 10.2.1
Fedora 38 (ARM)
Kernel: Depends on container host
Compiler: gcc 13.1.1
Debian 12 (arm)
Kernel: Container Host Kernel
Compiler: gcc 11
Fedora 37 (ARM)
Kernel: Depends on container host
Compiler: gcc 12.3.1
Ubuntu 20.04 (ARM)
Kernel: Container Host Kernel
Compiler: gcc 9.4.0
To view detailed results, visit:
https://lab.dpdk.org/results/dashboard/patchsets/29390/
UNH-IOL DPDK Community Lab
To manage your email subscriptions, visit:
https://lab.dpdk.org/results/dashboard/preferences/subscriptions/
More information about the test-report
mailing list