|SUCCESS| pw137812 [PATCH] eal/x86: improve rte_memcpy const size 16
dpdklab at iol.unh.edu
dpdklab at iol.unh.edu
Sun Mar 3 01:34:31 CET 2024
Test-Label: iol-abi-testing
Test-Status: SUCCESS
http://dpdk.org/patch/137812
_Testing PASS_
Submitter: Morten Brorup <mb at smartsharesystems.com>
Date: Saturday, March 02 2024 23:48:12
DPDK git baseline: Repo:dpdk
Branch: master
CommitID:5df34de5808a7b826b8bc035d6ee3161a12be364
137812 --> testing pass
Test environment and result as below:
+------------------+----------+
| Environment | abi_test |
+==================+==========+
| openSUSE Leap 15 | PASS |
+------------------+----------+
| Fedora 38 | PASS |
+------------------+----------+
| Debian Bullseye | PASS |
+------------------+----------+
openSUSE Leap 15
Kernel: 4.18.0-240.10.1.el8_3.x86_64
Compiler: gcc 7.5.0
Fedora 38
Kernel: Depends on container host
Compiler: clang 16.0.3
Debian Bullseye
Kernel: 5.4.0-122-generic
Compiler: gcc 10.2.1-6
To view detailed results, visit:
https://lab.dpdk.org/results/dashboard/patchsets/29390/
UNH-IOL DPDK Community Lab
To manage your email subscriptions, visit:
https://lab.dpdk.org/results/dashboard/preferences/subscriptions/
More information about the test-report
mailing list