|SUCCESS| [GIT MASTER] d4d5bbe6791850987d6d28da675574a868e8274c

dpdklab at iol.unh.edu dpdklab at iol.unh.edu
Sun Mar 3 08:51:13 CET 2024


_Testing PASS_

Branch: dpdk-next-net

d4d5bbe6791850987d6d28da675574a868e8274c --> testing pass

Test environment and result as below:

+-----------------------+---------------------------+------------------------------+----------------+--------------+
|      Environment      | cryptodev_sw_zuc_autotest | cryptodev_sw_snow3g_autotest | dpdk_unit_test | lpm_autotest |
+=======================+===========================+==============================+================+==============+
| Debian 12 (arm)       | PASS                      | PASS                         | SKIPPED        | SKIPPED      |
+-----------------------+---------------------------+------------------------------+----------------+--------------+
| Fedora 38 (ARM)       | SKIPPED                   | SKIPPED                      | PASS           | SKIPPED      |
+-----------------------+---------------------------+------------------------------+----------------+--------------+
| CentOS Stream 9 (ARM) | SKIPPED                   | SKIPPED                      | PASS           | SKIPPED      |
+-----------------------+---------------------------+------------------------------+----------------+--------------+
| Fedora 37 (ARM)       | SKIPPED                   | SKIPPED                      | PASS           | SKIPPED      |
+-----------------------+---------------------------+------------------------------+----------------+--------------+
| Ubuntu 20.04 ARM SVE  | SKIPPED                   | SKIPPED                      | SKIPPED        | PASS         |
+-----------------------+---------------------------+------------------------------+----------------+--------------+


Debian 12 (arm)
	Kernel: Container Host Kernel
	Compiler: gcc 11

Fedora 38 (ARM)
	Kernel: Depends on container host
	Compiler: gcc 13.1.1

CentOS Stream 9 (ARM)
	Kernel: Container Host Kernel
	Compiler: gcc 11.3.1

Fedora 37 (ARM)
	Kernel: Depends on container host
	Compiler: gcc 12.3.1

Ubuntu 20.04 ARM SVE
	Kernel: 5.4.0-80-generic
	Compiler: gcc 10.3.0 (Ubuntu 10.3.0-1ubuntu1~20.04)

To view detailed results, visit:
https://lab.dpdk.org/results/dashboard/tarballs/28284/

UNH-IOL DPDK Community Lab

To manage your email subscriptions, visit: 
https://lab.dpdk.org/results/dashboard/preferences/subscriptions/


More information about the test-report mailing list