|SUCCESS| pw137815-137837 [PATCH] [v6,23/23] net/cnxk: other flow op
dpdklab at iol.unh.edu
dpdklab at iol.unh.edu
Sun Mar 3 19:57:33 CET 2024
Test-Label: iol-unit-arm64-testing
Test-Status: SUCCESS
http://dpdk.org/patch/137837
_Testing PASS_
Submitter: Harman Kalra <hkalra at marvell.com>
Date: Sunday, March 03 2024 17:38:33
DPDK git baseline: Repo:dpdk
Branch: master
CommitID:a3d538b3a48d545abe19e9a616fe3b8422275c8d
137815-137837 --> testing pass
Test environment and result as below:
+--------------------------+---------------------------+------------------------------+--------------+----------------+
| Environment | cryptodev_sw_zuc_autotest | cryptodev_sw_snow3g_autotest | lpm_autotest | dpdk_unit_test |
+==========================+===========================+==============================+==============+================+
| Debian 12 (arm) | PASS | PASS | SKIPPED | SKIPPED |
+--------------------------+---------------------------+------------------------------+--------------+----------------+
| Ubuntu 20.04 ARM SVE | SKIPPED | SKIPPED | PASS | SKIPPED |
+--------------------------+---------------------------+------------------------------+--------------+----------------+
| Debian 11 (Buster) (ARM) | SKIPPED | SKIPPED | SKIPPED | PASS |
+--------------------------+---------------------------+------------------------------+--------------+----------------+
Debian 12 (arm)
Kernel: Container Host Kernel
Compiler: gcc 11
Ubuntu 20.04 ARM SVE
Kernel: 5.4.0-80-generic
Compiler: gcc 10.3.0 (Ubuntu 10.3.0-1ubuntu1~20.04)
Debian 11 (Buster) (ARM)
Kernel: Container Host Kernel
Compiler: gcc 10.2.1
To view detailed results, visit:
https://lab.dpdk.org/results/dashboard/patchsets/29393/
UNH-IOL DPDK Community Lab
To manage your email subscriptions, visit:
https://lab.dpdk.org/results/dashboard/preferences/subscriptions/
More information about the test-report
mailing list