|SUCCESS| pw137814 [PATCH] [v3] ethdev: add Linux ethtool link mode

dpdklab at iol.unh.edu dpdklab at iol.unh.edu
Sun Mar 3 20:21:00 CET 2024


Test-Label: iol-compile-arm64-testing
Test-Status: SUCCESS
http://dpdk.org/patch/137814

_Testing PASS_

Submitter: Thomas Monjalon <thomas at monjalon.net>
Date: Sunday, March 03 2024 09:56:44 
DPDK git baseline: Repo:dpdk
  Branch: master
  CommitID:d4d5bbe6791850987d6d28da675574a868e8274c

137814 --> testing pass

Test environment and result as below:

+--------------------------------------+--------------------+
|             Environment              | dpdk_meson_compile |
+======================================+====================+
| Ubuntu 20.04 ARM SVE                 | PASS               |
+--------------------------------------+--------------------+
| Debian 11 (Buster) (ARM)             | PASS               |
+--------------------------------------+--------------------+
| Debian 12 (arm)                      | PASS               |
+--------------------------------------+--------------------+
| CentOS Stream 9 (ARM)                | PASS               |
+--------------------------------------+--------------------+
| Ubuntu 20.04 (ARM)                   | PASS               |
+--------------------------------------+--------------------+
| Fedora 37 (ARM)                      | PASS               |
+--------------------------------------+--------------------+
| Fedora 38 (ARM)                      | PASS               |
+--------------------------------------+--------------------+
| Ubuntu 20.04 ARM Clang Cross Compile | PASS               |
+--------------------------------------+--------------------+


Ubuntu 20.04 ARM SVE
	Kernel: 5.4.0-80-generic
	Compiler: gcc 10.3.0 (Ubuntu 10.3.0-1ubuntu1~20.04)

Debian 11 (Buster) (ARM)
	Kernel: Container Host Kernel
	Compiler: gcc 10.2.1

Debian 12 (arm)
	Kernel: Container Host Kernel
	Compiler: gcc 11

CentOS Stream 9 (ARM)
	Kernel: Container Host Kernel
	Compiler: gcc 11.3.1

Ubuntu 20.04 (ARM)
	Kernel: Container Host Kernel
	Compiler: gcc 9.4.0

Fedora 37 (ARM)
	Kernel: Depends on container host
	Compiler: gcc 12.3.1

Fedora 38 (ARM)
	Kernel: Depends on container host
	Compiler: gcc 13.1.1

Ubuntu 20.04 ARM Clang Cross Compile
	Kernel: 5.4.0-72-generic
	Compiler: clang version 10.0.0-4ubuntu1

To view detailed results, visit:
https://lab.dpdk.org/results/dashboard/patchsets/29392/

UNH-IOL DPDK Community Lab

To manage your email subscriptions, visit: 
https://lab.dpdk.org/results/dashboard/preferences/subscriptions/


More information about the test-report mailing list