|SUCCESS| [GIT MASTER] f51828c00c2c65786d4e2935b4295a524af1f217
dpdklab at iol.unh.edu
dpdklab at iol.unh.edu
Mon Mar 4 18:48:02 CET 2024
_Testing PASS_
Branch: dpdk-next-eventdev
f51828c00c2c65786d4e2935b4295a524af1f217 --> testing pass
Test environment and result as below:
+---------------------+--------------------+
| Environment | dpdk_meson_compile |
+=====================+====================+
| FreeBSD 13.2 | PASS |
+---------------------+--------------------+
| Windows Server 2022 | PASS |
+---------------------+--------------------+
| CentOS Stream 9 | PASS |
+---------------------+--------------------+
FreeBSD 13.2
Kernel: 13.2
Compiler: clang 11.3.0
Windows Server 2022
Kernel: OS Build 20348.2031
Compiler: MSVC VS-Preview
CentOS Stream 9
Kernel: 4.18.0-240.10.1.el8_3.x86_64
Compiler: gcc 11.3.1 20220421
To view detailed results, visit:
https://lab.dpdk.org/results/dashboard/tarballs/28301/
UNH-IOL DPDK Community Lab
To manage your email subscriptions, visit:
https://lab.dpdk.org/results/dashboard/preferences/subscriptions/
More information about the test-report
mailing list