|SUCCESS| [GIT MASTER] f51828c00c2c65786d4e2935b4295a524af1f217

dpdklab at iol.unh.edu dpdklab at iol.unh.edu
Mon Mar 4 19:13:20 CET 2024


_Testing PASS_

Branch: dpdk-next-eventdev

f51828c00c2c65786d4e2935b4295a524af1f217 --> testing pass

Test environment and result as below:

+-----------------------+------------------------------+--------------+----------------+
|      Environment      | cryptodev_sw_snow3g_autotest | lpm_autotest | dpdk_unit_test |
+=======================+==============================+==============+================+
| Debian 12 (arm)       | PASS                         | SKIPPED      | PASS           |
+-----------------------+------------------------------+--------------+----------------+
| Ubuntu 20.04 ARM SVE  | SKIPPED                      | PASS         | SKIPPED        |
+-----------------------+------------------------------+--------------+----------------+
| CentOS Stream 9 (ARM) | SKIPPED                      | SKIPPED      | PASS           |
+-----------------------+------------------------------+--------------+----------------+


Debian 12 (arm)
	Kernel: Container Host Kernel
	Compiler: gcc 11

Ubuntu 20.04 ARM SVE
	Kernel: 5.4.0-80-generic
	Compiler: gcc 10.3.0 (Ubuntu 10.3.0-1ubuntu1~20.04)

CentOS Stream 9 (ARM)
	Kernel: Container Host Kernel
	Compiler: gcc 11.3.1

To view detailed results, visit:
https://lab.dpdk.org/results/dashboard/tarballs/28301/

UNH-IOL DPDK Community Lab

To manage your email subscriptions, visit: 
https://lab.dpdk.org/results/dashboard/preferences/subscriptions/


More information about the test-report mailing list