|SUCCESS| pw137915-137949 [PATCH] [v7,39/39] ip_frag: use C11 aligna

dpdklab at iol.unh.edu dpdklab at iol.unh.edu
Mon Mar 4 20:42:59 CET 2024


Test-Label: iol-unit-arm64-testing
Test-Status: SUCCESS
http://dpdk.org/patch/137949

_Testing PASS_

Submitter: Tyler Retzlaff <roretzla at linux.microsoft.com>
Date: Monday, March 04 2024 17:52:44 
DPDK git baseline: Repo:dpdk
  Branch: master
  CommitID:17d724349a8d4de8306ff9416549fdf71cc4b20a

137915-137949 --> testing pass

Test environment and result as below:

+-----------------------+--------------+---------------------------+------------------------------+----------------+
|      Environment      | lpm_autotest | cryptodev_sw_zuc_autotest | cryptodev_sw_snow3g_autotest | dpdk_unit_test |
+=======================+==============+===========================+==============================+================+
| Ubuntu 20.04 ARM SVE  | PASS         | SKIPPED                   | SKIPPED                      | SKIPPED        |
+-----------------------+--------------+---------------------------+------------------------------+----------------+
| Debian 12 (arm)       | SKIPPED      | PASS                      | PASS                         | PASS           |
+-----------------------+--------------+---------------------------+------------------------------+----------------+
| Fedora 37 (ARM)       | SKIPPED      | SKIPPED                   | SKIPPED                      | PASS           |
+-----------------------+--------------+---------------------------+------------------------------+----------------+
| CentOS Stream 9 (ARM) | SKIPPED      | SKIPPED                   | SKIPPED                      | PASS           |
+-----------------------+--------------+---------------------------+------------------------------+----------------+


Ubuntu 20.04 ARM SVE
	Kernel: 5.4.0-80-generic
	Compiler: gcc 10.3.0 (Ubuntu 10.3.0-1ubuntu1~20.04)

Debian 12 (arm)
	Kernel: Container Host Kernel
	Compiler: gcc 11

Fedora 37 (ARM)
	Kernel: Depends on container host
	Compiler: gcc 12.3.1

CentOS Stream 9 (ARM)
	Kernel: Container Host Kernel
	Compiler: gcc 11.3.1

To view detailed results, visit:
https://lab.dpdk.org/results/dashboard/patchsets/29405/

UNH-IOL DPDK Community Lab

To manage your email subscriptions, visit: 
https://lab.dpdk.org/results/dashboard/preferences/subscriptions/


More information about the test-report mailing list