|SUCCESS| [GIT MASTER] 1ff69fa228b1313bb0c430a5cd0d4d5d26fc93e3
dpdklab at iol.unh.edu
dpdklab at iol.unh.edu
Mon Mar 4 22:12:59 CET 2024
_Testing PASS_
Branch: dpdk-next-crypto
1ff69fa228b1313bb0c430a5cd0d4d5d26fc93e3 --> testing pass
Test environment and result as below:
+-----------------------+------------------------------+---------------------------+----------------+
| Environment | cryptodev_sw_snow3g_autotest | cryptodev_sw_zuc_autotest | dpdk_unit_test |
+=======================+==============================+===========================+================+
| Debian 12 (arm) | PASS | PASS | PASS |
+-----------------------+------------------------------+---------------------------+----------------+
| CentOS Stream 9 (ARM) | SKIPPED | SKIPPED | PASS |
+-----------------------+------------------------------+---------------------------+----------------+
Debian 12 (arm)
Kernel: Container Host Kernel
Compiler: gcc 11
CentOS Stream 9 (ARM)
Kernel: Container Host Kernel
Compiler: gcc 11.3.1
To view detailed results, visit:
https://lab.dpdk.org/results/dashboard/tarballs/28303/
UNH-IOL DPDK Community Lab
To manage your email subscriptions, visit:
https://lab.dpdk.org/results/dashboard/preferences/subscriptions/
More information about the test-report
mailing list