|SUCCESS| [GIT MASTER] 1ff69fa228b1313bb0c430a5cd0d4d5d26fc93e3

dpdklab at iol.unh.edu dpdklab at iol.unh.edu
Mon Mar 4 22:14:27 CET 2024


_Testing PASS_

Branch: dpdk-next-crypto

1ff69fa228b1313bb0c430a5cd0d4d5d26fc93e3 --> testing pass

Test environment and result as below:

+-----------------------+------------------------------+---------------------------+----------------+--------------+
|      Environment      | cryptodev_sw_snow3g_autotest | cryptodev_sw_zuc_autotest | dpdk_unit_test | lpm_autotest |
+=======================+==============================+===========================+================+==============+
| Debian 12 (arm)       | PASS                         | PASS                      | PASS           | SKIPPED      |
+-----------------------+------------------------------+---------------------------+----------------+--------------+
| CentOS Stream 9 (ARM) | SKIPPED                      | SKIPPED                   | PASS           | SKIPPED      |
+-----------------------+------------------------------+---------------------------+----------------+--------------+
| Ubuntu 20.04 ARM SVE  | SKIPPED                      | SKIPPED                   | SKIPPED        | PASS         |
+-----------------------+------------------------------+---------------------------+----------------+--------------+


Debian 12 (arm)
	Kernel: Container Host Kernel
	Compiler: gcc 11

CentOS Stream 9 (ARM)
	Kernel: Container Host Kernel
	Compiler: gcc 11.3.1

Ubuntu 20.04 ARM SVE
	Kernel: 5.4.0-80-generic
	Compiler: gcc 10.3.0 (Ubuntu 10.3.0-1ubuntu1~20.04)

To view detailed results, visit:
https://lab.dpdk.org/results/dashboard/tarballs/28303/

UNH-IOL DPDK Community Lab

To manage your email subscriptions, visit: 
https://lab.dpdk.org/results/dashboard/preferences/subscriptions/


More information about the test-report mailing list