|SUCCESS| pw137960 [PATCH] [v2] hash: make GFNI stubs inline (again)
dpdklab at iol.unh.edu
dpdklab at iol.unh.edu
Tue Mar 5 09:48:20 CET 2024
Test-Label: iol-unit-arm64-testing
Test-Status: SUCCESS
http://dpdk.org/patch/137960
_Testing PASS_
Submitter: Stephen Hemminger <stephen at networkplumber.org>
Date: Tuesday, March 05 2024 03:07:24
DPDK git baseline: Repo:dpdk
Branch: master
CommitID:be793709e7b044cd4f806d6103bf3c046311a3c7
137960 --> testing pass
Test environment and result as below:
+--------------------------+----------------+--------------+---------------------------+
| Environment | dpdk_unit_test | lpm_autotest | cryptodev_sw_zuc_autotest |
+==========================+================+==============+===========================+
| Debian 11 (Buster) (ARM) | PASS | SKIPPED | SKIPPED |
+--------------------------+----------------+--------------+---------------------------+
| Fedora 37 (ARM) | PASS | SKIPPED | SKIPPED |
+--------------------------+----------------+--------------+---------------------------+
| CentOS Stream 9 (ARM) | PASS | SKIPPED | SKIPPED |
+--------------------------+----------------+--------------+---------------------------+
| Debian 12 (arm) | PASS | SKIPPED | PASS |
+--------------------------+----------------+--------------+---------------------------+
| Ubuntu 20.04 ARM SVE | SKIPPED | PASS | SKIPPED |
+--------------------------+----------------+--------------+---------------------------+
Debian 11 (Buster) (ARM)
Kernel: Container Host Kernel
Compiler: gcc 10.2.1
Fedora 37 (ARM)
Kernel: Depends on container host
Compiler: gcc 12.3.1
CentOS Stream 9 (ARM)
Kernel: Container Host Kernel
Compiler: gcc 11.3.1
Debian 12 (arm)
Kernel: Container Host Kernel
Compiler: gcc 11
Ubuntu 20.04 ARM SVE
Kernel: 5.4.0-80-generic
Compiler: gcc 10.3.0 (Ubuntu 10.3.0-1ubuntu1~20.04)
To view detailed results, visit:
https://lab.dpdk.org/results/dashboard/patchsets/29408/
UNH-IOL DPDK Community Lab
To manage your email subscriptions, visit:
https://lab.dpdk.org/results/dashboard/preferences/subscriptions/
More information about the test-report
mailing list