|SUCCESS| pw137985 [PATCH] config/arm: add Marvell Odyssey
dpdklab at iol.unh.edu
dpdklab at iol.unh.edu
Tue Mar 5 12:05:48 CET 2024
Test-Label: iol-compile-amd64-testing
Test-Status: SUCCESS
http://dpdk.org/patch/137985
_Testing PASS_
Submitter: Anoob Joseph <anoobj at marvell.com>
Date: Tuesday, March 05 2024 10:17:29
DPDK git baseline: Repo:dpdk
Branch: master
CommitID:deedfb86a7a6e10064d3cccd593f62072de96e36
137985 --> testing pass
Test environment and result as below:
+---------------------+--------------------+----------------------+
| Environment | dpdk_meson_compile | dpdk_mingw64_compile |
+=====================+====================+======================+
| Windows Server 2022 | PASS | SKIPPED |
+---------------------+--------------------+----------------------+
| FreeBSD 13.2 | PASS | SKIPPED |
+---------------------+--------------------+----------------------+
| Windows Server 2019 | PASS | PASS |
+---------------------+--------------------+----------------------+
| Debian Bullseye | PASS | SKIPPED |
+---------------------+--------------------+----------------------+
| Ubuntu 22.04 | PASS | SKIPPED |
+---------------------+--------------------+----------------------+
| Fedora 38 | PASS | SKIPPED |
+---------------------+--------------------+----------------------+
Windows Server 2022
Kernel: OS Build 20348.2031
Compiler: MSVC VS-Preview
FreeBSD 13.2
Kernel: 13.2
Compiler: clang 11.3.0
Windows Server 2019
Kernel: 10.0
Compiler: clang 14.0 and gcc 8.1.0 (MinGW)
Debian Bullseye
Kernel: 5.4.0-122-generic
Compiler: gcc 10.2.1-6
Ubuntu 22.04
Kernel: 4.18.0-240.10.1.el8_3.x86_64
Compiler: gcc 11.3.0
Fedora 38
Kernel: Depends on container host
Compiler: gcc 13.1.1
To view detailed results, visit:
https://lab.dpdk.org/results/dashboard/patchsets/29413/
UNH-IOL DPDK Community Lab
To manage your email subscriptions, visit:
https://lab.dpdk.org/results/dashboard/preferences/subscriptions/
More information about the test-report
mailing list