|SUCCESS| pw137996 [PATCH] devtools: require version for experimenta
dpdklab at iol.unh.edu
dpdklab at iol.unh.edu
Tue Mar 5 20:30:30 CET 2024
Test-Label: iol-abi-testing
Test-Status: SUCCESS
http://dpdk.org/patch/137996
_Testing PASS_
Submitter: David Marchand <david.marchand at redhat.com>
Date: Tuesday, March 05 2024 13:49:50
DPDK git baseline: Repo:dpdk
Branch: master
CommitID:2a0244d611b43dce2611f92dde7e4941a0787354
137996 --> testing pass
Test environment and result as below:
+------------------+----------+
| Environment | abi_test |
+==================+==========+
| CentOS Stream 9 | PASS |
+------------------+----------+
| Fedora 37 | PASS |
+------------------+----------+
| Fedora 38 | PASS |
+------------------+----------+
| RHEL8 | PASS |
+------------------+----------+
| Debian Bullseye | PASS |
+------------------+----------+
| openSUSE Leap 15 | PASS |
+------------------+----------+
| Debian 12 (arm) | PASS |
+------------------+----------+
| Ubuntu 22.04 | PASS |
+------------------+----------+
CentOS Stream 9
Kernel: 4.18.0-240.10.1.el8_3.x86_64
Compiler: gcc 11.3.1 20220421
Fedora 37
Kernel: Depends on container host system
Compiler: gcc 12.3.1
Fedora 38
Kernel: Depends on container host
Compiler: clang 16.0.3
RHEL8
Kernel: 4.18.0-240.10.1.el8_3.x86_64
Compiler: gcc 8.3.1 20191121 (Red Hat 8.3.1-5)
Debian Bullseye
Kernel: 5.4.0-122-generic
Compiler: gcc 10.2.1-6
openSUSE Leap 15
Kernel: 4.18.0-240.10.1.el8_3.x86_64
Compiler: gcc 7.5.0
Debian 12 (arm)
Kernel: Container Host Kernel
Compiler: gcc 11
Ubuntu 22.04
Kernel: 4.18.0-240.10.1.el8_3.x86_64
Compiler: gcc 11.3.0
To view detailed results, visit:
https://lab.dpdk.org/results/dashboard/patchsets/29423/
UNH-IOL DPDK Community Lab
To manage your email subscriptions, visit:
https://lab.dpdk.org/results/dashboard/preferences/subscriptions/
More information about the test-report
mailing list