|SUCCESS| pw137995 [PATCH] tests: assume c source files are utf-8 en

dpdklab at iol.unh.edu dpdklab at iol.unh.edu
Tue Mar 5 21:09:01 CET 2024


Test-Label: iol-unit-amd64-testing
Test-Status: SUCCESS
http://dpdk.org/patch/137995

_Testing PASS_

Submitter: Robin Jarry <rjarry at redhat.com>
Date: Tuesday, March 05 2024 13:46:15 
DPDK git baseline: Repo:dpdk
  Branch: master
  CommitID:2a0244d611b43dce2611f92dde7e4941a0787354

137995 --> testing pass

Test environment and result as below:

+---------------------+----------------+
|     Environment     | dpdk_unit_test |
+=====================+================+
| Windows Server 2019 | PASS           |
+---------------------+----------------+
| CentOS Stream 8     | PASS           |
+---------------------+----------------+
| Debian 12 (arm)     | PASS           |
+---------------------+----------------+


Windows Server 2019
	Kernel: 10.0
	Compiler: clang 14.0 and gcc 8.1.0 (MinGW)

CentOS Stream 8
	Kernel: 4.18.0-240.10.1.el8_3.x86_64
	Compiler: gcc 8.4.1 20200928

Debian 12 (arm)
	Kernel: Container Host Kernel
	Compiler: gcc 11

To view detailed results, visit:
https://lab.dpdk.org/results/dashboard/patchsets/29422/

UNH-IOL DPDK Community Lab

To manage your email subscriptions, visit: 
https://lab.dpdk.org/results/dashboard/preferences/subscriptions/


More information about the test-report mailing list