|SUCCESS| pw138003 [PATCH] [v3] config/arm: add Marvell Odyssey
dpdklab at iol.unh.edu
dpdklab at iol.unh.edu
Wed Mar 6 09:19:35 CET 2024
Test-Label: iol-unit-arm64-testing
Test-Status: SUCCESS
http://dpdk.org/patch/138003
_Testing PASS_
Submitter: Anoob Joseph <anoobj at marvell.com>
Date: Wednesday, March 06 2024 05:50:29
DPDK git baseline: Repo:dpdk
Branch: master
CommitID:7fcf4e8a03c4b0d2c6cec11ddd18c7bf88ba0384
138003 --> testing pass
Test environment and result as below:
+-----------------------+--------------+----------------+---------------------------+------------------------------+
| Environment | lpm_autotest | dpdk_unit_test | cryptodev_sw_zuc_autotest | cryptodev_sw_snow3g_autotest |
+=======================+==============+================+===========================+==============================+
| Ubuntu 20.04 ARM SVE | PASS | SKIPPED | SKIPPED | SKIPPED |
+-----------------------+--------------+----------------+---------------------------+------------------------------+
| CentOS Stream 9 (ARM) | SKIPPED | PASS | SKIPPED | SKIPPED |
+-----------------------+--------------+----------------+---------------------------+------------------------------+
| Debian 12 (arm) | SKIPPED | PASS | PASS | PASS |
+-----------------------+--------------+----------------+---------------------------+------------------------------+
| Fedora 38 (ARM) | SKIPPED | PASS | SKIPPED | SKIPPED |
+-----------------------+--------------+----------------+---------------------------+------------------------------+
Ubuntu 20.04 ARM SVE
Kernel: 5.4.0-80-generic
Compiler: gcc 10.3.0 (Ubuntu 10.3.0-1ubuntu1~20.04)
CentOS Stream 9 (ARM)
Kernel: Container Host Kernel
Compiler: gcc 11.3.1
Debian 12 (arm)
Kernel: Container Host Kernel
Compiler: gcc 11
Fedora 38 (ARM)
Kernel: Depends on container host
Compiler: gcc 13.1.1
To view detailed results, visit:
https://lab.dpdk.org/results/dashboard/patchsets/29426/
UNH-IOL DPDK Community Lab
To manage your email subscriptions, visit:
https://lab.dpdk.org/results/dashboard/preferences/subscriptions/
More information about the test-report
mailing list